BEGIN:VCALENDAR
VERSION:2.0
PRODID:-//Brian Michael Smith - ECPv6.15.20//NONSGML v1.0//EN
CALSCALE:GREGORIAN
METHOD:PUBLISH
X-WR-CALNAME:Brian Michael Smith
X-ORIGINAL-URL:https://www.brianmichaelsmith.com
X-WR-CALDESC:Events for Brian Michael Smith
REFRESH-INTERVAL;VALUE=DURATION:PT1H
X-Robots-Tag:noindex
X-PUBLISHED-TTL:PT1H
BEGIN:VTIMEZONE
TZID:UTC
BEGIN:STANDARD
TZOFFSETFROM:+0000
TZOFFSETTO:+0000
TZNAME:UTC
DTSTART:20250101T000000
END:STANDARD
END:VTIMEZONE
BEGIN:VEVENT
DTSTART;TZID=UTC:20260403T193000
DTEND;TZID=UTC:20260403T220000
DTSTAMP:20260419T162943
CREATED:20260319T202621Z
LAST-MODIFIED:20260319T202621Z
UID:1542-1775244600-1775253600@www.brianmichaelsmith.com
SUMMARY:Live Big Band Music\, Friday 4/3/26
DESCRIPTION:An evening of live music and dancing in the famous Valley Dale Ballroom\, the largest dance floor in Columbus. $15 Cover\, Cash Bar\, Food Available for Purchase.
URL:https://www.brianmichaelsmith.com/event/live-big-band-music-friday-4-3-26/
LOCATION:Valley Dale Ballroom\, 1590 Sunbury Road\, Columbus\, NY\, 10705\, United States
END:VEVENT
END:VCALENDAR