BEGIN:VCALENDAR
VERSION:2.0
PRODID:-//Brian Michael Smith - ECPv6.15.20//NONSGML v1.0//EN
CALSCALE:GREGORIAN
METHOD:PUBLISH
X-WR-CALNAME:Brian Michael Smith
X-ORIGINAL-URL:https://www.brianmichaelsmith.com
X-WR-CALDESC:Events for Brian Michael Smith
REFRESH-INTERVAL;VALUE=DURATION:PT1H
X-Robots-Tag:noindex
X-PUBLISHED-TTL:PT1H
BEGIN:VTIMEZONE
TZID:UTC
BEGIN:STANDARD
TZOFFSETFROM:+0000
TZOFFSETTO:+0000
TZNAME:UTC
DTSTART:20210101T000000
END:STANDARD
END:VTIMEZONE
BEGIN:VEVENT
DTSTART;TZID=UTC:20230728T170000
DTEND;TZID=UTC:20230728T170000
DTSTAMP:20260423T105507
CREATED:20230722T194059Z
LAST-MODIFIED:20230722T194059Z
UID:1077-1690563600-1690563600@www.brianmichaelsmith.com
SUMMARY:Private Event\, Friday 7/28/23
DESCRIPTION:  \nPrivate Wedding Ceremony and Reception.
URL:https://www.brianmichaelsmith.com/event/private-event-friday-7-28-23/
LOCATION:Columbus Country Club\, 4831 East Broad Street\, Clumbus\, Ohio\, United States
END:VEVENT
BEGIN:VEVENT
DTSTART;TZID=UTC:20230721T193000
DTEND;TZID=UTC:20230721T220000
DTSTAMP:20260423T105507
CREATED:20230718T154247Z
LAST-MODIFIED:20230718T154422Z
UID:1069-1689967800-1689976800@www.brianmichaelsmith.com
SUMMARY:Live Music with Big Band at Valley Dale\, Friday 7/21/23
DESCRIPTION:  \n \nAn evening of live music and dancing in the famous Valley Dale Ballroom with Brian Michael Smith and The Rick Brunetto Big Band. Valley Dale has the largest dance floor in Columbus so put on your dancing shoes. $15 cover\, cash bar\, food available for purchase.
URL:https://www.brianmichaelsmith.com/event/live-music-with-big-band-at-valley-dale-friday-7-21-23/
LOCATION:Valley Dale Ballroom\, 1590 Sunbury Road\, Columbus\, NY\, 10705\, United States
END:VEVENT
BEGIN:VEVENT
DTSTART;TZID=UTC:20230715T163000
DTEND;TZID=UTC:20230715T180000
DTSTAMP:20260423T105507
CREATED:20230705T180309Z
LAST-MODIFIED:20230705T180407Z
UID:909-1689438600-1689444000@www.brianmichaelsmith.com
SUMMARY:Private Event\, Saturday 7/15/23
DESCRIPTION:  \n \n \nPrivate Wedding Ceremony at Holy Cross Church. Brian Michael Smith and the Columbus String Quartet.
URL:https://www.brianmichaelsmith.com/event/private-event-saturday-7-15-23/
LOCATION:Holy Cross Church\, 204 South Fifth Street\, Columbus\, OH\, 43215\, United States
END:VEVENT
BEGIN:VEVENT
DTSTART;TZID=UTC:20230617T173000
DTEND;TZID=UTC:20230617T203000
DTSTAMP:20260423T105507
CREATED:20230601T152538Z
LAST-MODIFIED:20230601T152538Z
UID:893-1687023000-1687033800@www.brianmichaelsmith.com
SUMMARY:Private Event\, Saturday 6/17/23
DESCRIPTION:  \n \nMembers Only event at Columbus Country Club. Dinner and live music on the terrace overlooking the golf course.
URL:https://www.brianmichaelsmith.com/event/private-event-saturday-6-17-23/
LOCATION:Columbus Country Club\, 4831 East Broad Street\, Clumbus\, Ohio\, United States
END:VEVENT
BEGIN:VEVENT
DTSTART;TZID=UTC:20230616T200000
DTEND;TZID=UTC:20230616T230000
DTSTAMP:20260423T105507
CREATED:20230531T204138Z
LAST-MODIFIED:20230531T204138Z
UID:887-1686945600-1686956400@www.brianmichaelsmith.com
SUMMARY:Friday Night Live Music at Hyde Park\, 6/16/23
DESCRIPTION:Live Music with Brian Michael Smith and his Trio in the Wine Bar at Hyde Park Prime Steakhouse.  Relax at the bar with drinks and starters or fine dining at tables.  Chef-inspired menu featuring a variation of legendary aged boutique cut steaks\, market fresh seafood\, and chef-crafted seasonal features. Located on The CAP at Union Station.
URL:https://www.brianmichaelsmith.com/event/friday-night-live-music-at-hyde-park-6-16-23/
LOCATION:Hyde Park Prime Steakhouse\, 569 North High St\, Columbus\, OH\, 43215\, United States
END:VEVENT
BEGIN:VEVENT
DTSTART;TZID=UTC:20230611T140000
DTEND;TZID=UTC:20230611T170000
DTSTAMP:20260423T105507
CREATED:20230530T172036Z
LAST-MODIFIED:20230530T172036Z
UID:883-1686492000-1686502800@www.brianmichaelsmith.com
SUMMARY:Afternoon Tea Dance\, Sunday 6/11/23
DESCRIPTION:Sadly\, the 94th Aero Squadron is closing on 6/18/23. This is your last chance to experience this very popular event with Brian Michael Smith and The Rick Brunetto Big Band. Reservations required at 614.237.8887.
URL:https://www.brianmichaelsmith.com/event/afternoon-tea-dance-sunday-6-11-23/
LOCATION:94th Aero Squadron\, 5030Sawyer Road\, Columbus\, OH\, 43219\, United States
END:VEVENT
BEGIN:VEVENT
DTSTART;TZID=UTC:20230610T130000
DTEND;TZID=UTC:20230610T160000
DTSTAMP:20260423T105507
CREATED:20230514T192902Z
LAST-MODIFIED:20230514T192902Z
UID:875-1686402000-1686412800@www.brianmichaelsmith.com
SUMMARY:Special Event at Carfagna's Market & Ristorante\, Saturday 6/10/23
DESCRIPTION:Join Brian Michael Smith and his Trio for Live Music and a Special In-Store Event at this fabulous new space at Polaris. Come for cocktails or an amazing hand-made Italian dining experience. Also shop the taste of Italy in their authentic Italian market. For over 80 years\, Carfagna’s has been a standout in the local Italian food scene.
URL:https://www.brianmichaelsmith.com/event/special-event-at-carfagnas-market-ristorante-saturday-6-10-23/
LOCATION:Carfagna’s Market & Ristorante\, 1440 Gemini Place\, Towne Center\, Westerville\, OH\, 43240\, United States
END:VEVENT
BEGIN:VEVENT
DTSTART;TZID=UTC:20230603T200000
DTEND;TZID=UTC:20230603T230000
DTSTAMP:20260423T105507
CREATED:20230530T171455Z
LAST-MODIFIED:20230530T171455Z
UID:880-1685822400-1685833200@www.brianmichaelsmith.com
SUMMARY:Saturday Night Live Music\, 6/3/23
DESCRIPTION:Music with Brian Michael Smith and his Trio in the Wine Bar at Hyde Park Prime Steakhouse.  Relax at the bar with drinks and starters or fine dining at tables.  Chef-inspired menu featuring a variation of legendary aged boutique cut steaks\, market fresh seafood\, and chef-crafted seasonal features. Located on The CAP at Union Station.
URL:https://www.brianmichaelsmith.com/event/saturday-night-live-music-6-3-23/
LOCATION:Hyde Park Prime Steakhouse\, 569 North High St\, Columbus\, OH\, 43215\, United States
END:VEVENT
BEGIN:VEVENT
DTSTART;TZID=UTC:20230520T170000
DTEND;TZID=UTC:20230520T230000
DTSTAMP:20260423T105507
CREATED:20230206T205050Z
LAST-MODIFIED:20230206T205050Z
UID:790-1684602000-1684623600@www.brianmichaelsmith.com
SUMMARY:Private Event\, Saturday 5/20/23
DESCRIPTION:Private Wedding (Reception Entertainment and Master of Ceremonies)
URL:https://www.brianmichaelsmith.com/event/private-event-saturday-5-20-23/
LOCATION:UNOH Event Center\, 1450 N. Cable Road\, Lima\, OH\, 45805\, United States
END:VEVENT
BEGIN:VEVENT
DTSTART;TZID=UTC:20230518T180000
DTEND;TZID=UTC:20230518T210000
DTSTAMP:20260423T105507
CREATED:20230327T203718Z
LAST-MODIFIED:20230327T232137Z
UID:823-1684432800-1684443600@www.brianmichaelsmith.com
SUMMARY:Farewell Performance at 94th Aero Squadron\, Thursday 5/18/23
DESCRIPTION:Enjoy Live Music (It Might as Well be Spring!) with Brian Michael Smith and the John Vermeulen Swing Band at 94th Aero Squadron’s 1917 French Farmhouse. Fabulous food & drink. Great music & dancing. Dramatic view of the John Glenn International Airport. $10 cover. Dinner reservations: 614.237.8887. \nHelp us say “farewell” to this iconic gathering place that has welcomed diners for 30+ years as they will be closing their doors in the coming months.
URL:https://www.brianmichaelsmith.com/event/live-big-band-music-at-94th-aero-squadron-thursday-5-18-23/
LOCATION:94th Aero Squadron\, 5030Sawyer Road\, Columbus\, OH\, 43219\, United States
END:VEVENT
BEGIN:VEVENT
DTSTART;TZID=UTC:20230506T200000
DTEND;TZID=UTC:20230506T230000
DTSTAMP:20260423T105507
CREATED:20230415T185338Z
LAST-MODIFIED:20230416T210238Z
UID:836-1683403200-1683414000@www.brianmichaelsmith.com
SUMMARY:Saturday Night Live Music\, 5/6/23
DESCRIPTION:Music with Brian Michael Smith and his Trio in the Wine Bar at Hyde Park Prime Steakhouse.  Relax at the bar with drinks and starters or fine dining at tables.  Chef-inspired menu featuring a variation of legendary aged boutique cut steaks\, market fresh seafood\, and chef-crafted seasonal features. Located on The CAP at Union Station.
URL:https://www.brianmichaelsmith.com/event/live-music-saturday-night-5-6-23/
LOCATION:Hyde Park Prime Steakhouse\, 569 North High St\, Columbus\, OH\, 43215\, United States
END:VEVENT
BEGIN:VEVENT
DTSTART;TZID=UTC:20230505T113000
DTEND;TZID=UTC:20230505T130000
DTSTAMP:20260423T105507
CREATED:20230129T200305Z
LAST-MODIFIED:20230312T180453Z
UID:753-1683286200-1683291600@www.brianmichaelsmith.com
SUMMARY:Ohio Military Hall of Fame Induction Ceremony\, Friday 5/5/23
DESCRIPTION:  \n  \n \nPlease join me for this awe-inspiring experience honoring our Ohio Veterans who are receiving Medals of Valour and being inducted into the Ohio Military Hall of Fame. \nIt is my honor and extreme privilege to salute our Veterans with music and song. \nFree admission and open to the public.
URL:https://www.brianmichaelsmith.com/event/ohio-military-hall-of-fame-induction-ceremony-friday-5-5-23/
LOCATION:The Atrium\, Ohio Statehouse\, 1 East Capital St.\, Columbus\, OH\, 43215\, United States
END:VEVENT
BEGIN:VEVENT
DTSTART;TZID=UTC:20230503T170000
DTEND;TZID=UTC:20230503T213000
DTSTAMP:20260423T105507
CREATED:20230424T193522Z
LAST-MODIFIED:20230424T193522Z
UID:871-1683133200-1683149400@www.brianmichaelsmith.com
SUMMARY:Private Event\, Wednesday 5/3/23
DESCRIPTION:Private 60th Birthday Celebration
URL:https://www.brianmichaelsmith.com/event/private-event-wednesday-5-3-23/
LOCATION:New Albany Country Club\, One Club Lane\, New Albany\, OH\, 43054\, United States
END:VEVENT
BEGIN:VEVENT
DTSTART;TZID=UTC:20230429T190000
DTEND;TZID=UTC:20230429T220000
DTSTAMP:20260423T105507
CREATED:20230424T192830Z
LAST-MODIFIED:20230424T192830Z
UID:863-1682794800-1682805600@www.brianmichaelsmith.com
SUMMARY:Private Event\, Saturday 4/29/23
DESCRIPTION:Private 50th Anniversary Celebration
URL:https://www.brianmichaelsmith.com/event/private-event-saturday-4-29-23/
LOCATION:Medallion Country Club\, 5000 Club Drive\, Westerville\, OH\, 43082\, United States
END:VEVENT
BEGIN:VEVENT
DTSTART;TZID=UTC:20230428T193000
DTEND;TZID=UTC:20230428T220000
DTSTAMP:20260423T105507
CREATED:20230424T185432Z
LAST-MODIFIED:20230424T185432Z
UID:853-1682710200-1682719200@www.brianmichaelsmith.com
SUMMARY:Live Music with Big Band at Valley Dale\, Friday 4/28/23
DESCRIPTION:An evening of live music and dancing in the famous Valley Dale Ballroom with Brian Michael Smith and The Rick Brunetto Big Band. Valley Dale has the largest dance floor in Columbus so put on your dancing shoes. $15 cover\, cash bar\, food available for purchase.
URL:https://www.brianmichaelsmith.com/event/live-music-with-big-band-at-valley-dale-friday-4-28-23/
LOCATION:Valley Dale Ballroom\, 1590 Sunbury Road\, Columbus\, NY\, 10705\, United States
END:VEVENT
BEGIN:VEVENT
DTSTART;TZID=UTC:20230413T180000
DTEND;TZID=UTC:20230413T210000
DTSTAMP:20260423T105507
CREATED:20230312T175851Z
LAST-MODIFIED:20230312T180334Z
UID:799-1681408800-1681419600@www.brianmichaelsmith.com
SUMMARY:Live Music at Carfagna's\, Thursday 4/13/23
DESCRIPTION:Please join me and my trio for an evening of live music in Bar Saturnino at Carfagna’s Market & Ristorante\, a fabulous new space at Polaris. Come for cocktails or an amazing hand-made Italian dining experience. Also shop the taste of Italy in their authentic Italian market. For over 80 years\, Carfagna’s has been a standout in the local Italian food scene.
URL:https://www.brianmichaelsmith.com/event/live-music-at-carfagnas-thursday-4-13-23/
END:VEVENT
BEGIN:VEVENT
DTSTART;TZID=UTC:20230403T190000
DTEND;TZID=UTC:20230403T210000
DTSTAMP:20260423T105507
CREATED:20230327T200013Z
LAST-MODIFIED:20230327T232309Z
UID:812-1680548400-1680555600@www.brianmichaelsmith.com
SUMMARY:Big Bands & All That Jazz Society Live Music\, Monday 4/3/23
DESCRIPTION:The Big Bands & All That Jazz Society presents Brian Michael Smith & the John Vermeulen Swing Band for an evening of Live Music. The Jazz Society is in their 35th year and brings the finest jazz and big band concerts to the First Christian Church in Ashland\, Ohio\, and the surrounding communities. Free admission (Donations welcome!).
URL:https://www.brianmichaelsmith.com/event/big-bands-all-that-jazz-society-live-music-4-3-23/
LOCATION:First Christian Church\, 1425 King Road\, Ashland\, OH\, 44805\, United States
END:VEVENT
BEGIN:VEVENT
DTSTART;TZID=UTC:20230320T193000
DTEND;TZID=UTC:20230320T220000
DTSTAMP:20260423T105507
CREATED:20230127T212722Z
LAST-MODIFIED:20230205T010120Z
UID:737-1679340600-1679349600@www.brianmichaelsmith.com
SUMMARY:An Evening of Live Music\, Monday 3/20/23
DESCRIPTION:SINATRA LIVES with Brian Michael Smith and Vaughn Wiester’s Famous Jazz Orchestra at The Clintonville Women’s Club. Snacks for purchase and BYO Beer\, wine or liquor. $15 admission at the door. $10 for students. Open to the public.
URL:https://www.brianmichaelsmith.com/event/an-evening-of-live-music-monday-3-20-23/
LOCATION:Clintonville Women’s Club\, 3951 North High Street\, Columbus\, OH\, 43214\, United States
END:VEVENT
BEGIN:VEVENT
DTSTART;TZID=UTC:20230315T180000
DTEND;TZID=UTC:20230315T230000
DTSTAMP:20260423T105507
CREATED:20230312T181041Z
LAST-MODIFIED:20230312T181041Z
UID:807-1678903200-1678921200@www.brianmichaelsmith.com
SUMMARY:Private Event\, Wednesday\, 3/15/23
DESCRIPTION:Private Wedding Reception
URL:https://www.brianmichaelsmith.com/event/private-event-wednesday-3-15-23/
LOCATION:Medallion Country Club\, 5000 Club Drive\, Westerville\, OH\, 43082\, United States
END:VEVENT
BEGIN:VEVENT
DTSTART;TZID=UTC:20230225T180000
DTEND;TZID=UTC:20230225T220000
DTSTAMP:20260423T105507
CREATED:20230129T203241Z
LAST-MODIFIED:20230204T205809Z
UID:760-1677348000-1677362400@www.brianmichaelsmith.com
SUMMARY:WesterBall 2023\, Saturday 2/25/23
DESCRIPTION:I’m very honored that my performance at “Make a Joyful Noise Series” with the John Vermeulen Swing Band is one of five finalists for The Arts Council of Westerville’s Performance of the Year Award. I’m thrilled to have also been invited to perform with the Westerville Central Jazz Band\, directed by John Vermeulen\, at the WesterBall on February 25th where the winner will be announced. \nWesterBall 2023\, a Community Arts Gala\, will be an out of this world celebration to highlight where the arts in Westerville are and where they are heading. With new artists\, performances\, a LIVE Art Rally\, Awards Ceremony\, Educational Grants\, dancing\, and more\, you won’t want to miss it! \nArtists\, community leaders\, art supporters\, and performances all under one roof at The Point at Otterbein with a common goal\, to celebrate and support ALL of the Arts in Westerville. \nTickets for sale on the WestrBall website.
URL:https://www.brianmichaelsmith.com/event/westerball-2023-saturday-2-25-23/
LOCATION:The Point at Otterbein\, 60 Collegeview Road\, Westerville\, OH\, 43081\, United States
END:VEVENT
BEGIN:VEVENT
DTSTART;TZID=UTC:20230214T190000
DTEND;TZID=UTC:20230214T220000
DTSTAMP:20260423T105507
CREATED:20230205T012536Z
LAST-MODIFIED:20230206T201633Z
UID:774-1676401200-1676412000@www.brianmichaelsmith.com
SUMMARY:Celebrate Valentine's Day\, Tuesday 2/14/23
DESCRIPTION:Spend a romantic evening with Brian Michael Smith and The Rick Brunetto Big Band for live music and dancing on the Famous Valley Dale Ballroom\, the largest dance floor in Columbus! \n$39 Admission includes Appetizers and Desserts. Tickets ONLINE at Valley Dale Ballroom.
URL:https://www.brianmichaelsmith.com/event/celebrate-valentines-day-tuesday-2-14-23/
LOCATION:Valley Dale Ballroom\, 1590 Sunbury Road\, Columbus\, NY\, 10705\, United States
END:VEVENT
BEGIN:VEVENT
DTSTART;TZID=UTC:20230204T120000
DTEND;TZID=UTC:20230204T180000
DTSTAMP:20260423T105507
CREATED:20230123T202024Z
LAST-MODIFIED:20230123T202024Z
UID:705-1675512000-1675533600@www.brianmichaelsmith.com
SUMMARY:Private Event\, Saturday 2/4/23
DESCRIPTION:
URL:https://www.brianmichaelsmith.com/event/private-event-saturday-2-4-23/
LOCATION:Everal Barn and Homestead\, 60 North Cleveland Avenue\, Westerville\, OH\, United States
END:VEVENT
BEGIN:VEVENT
DTSTART;TZID=UTC:20230202T180000
DTEND;TZID=UTC:20230202T210000
DTSTAMP:20260423T105507
CREATED:20230123T201531Z
LAST-MODIFIED:20230123T201531Z
UID:703-1675360800-1675371600@www.brianmichaelsmith.com
SUMMARY:Private Event\, Thursday 2/2/23
DESCRIPTION:
URL:https://www.brianmichaelsmith.com/event/private-event-thursday-2-2-23/
LOCATION:Scioto Country Club\, 2196 Riverside Drive\, Columbus\, OH\, 43221\, United States
END:VEVENT
BEGIN:VEVENT
DTSTART;TZID=UTC:20230109T180000
DTEND;TZID=UTC:20230109T200000
DTSTAMP:20260423T105507
CREATED:20230105T182308Z
LAST-MODIFIED:20230105T182436Z
UID:700-1673287200-1673294400@www.brianmichaelsmith.com
SUMMARY:Private Event\, Monday 1/9/23
DESCRIPTION:
URL:https://www.brianmichaelsmith.com/event/private-event-monday-1-9-23/
LOCATION:New Albany Country Club\, One Club Lane\, New Albany\, OH\, 43054\, United States
END:VEVENT
BEGIN:VEVENT
DTSTART;TZID=UTC:20230107T190000
DTEND;TZID=UTC:20230107T220000
DTSTAMP:20260423T105507
CREATED:20230105T181948Z
LAST-MODIFIED:20230105T181948Z
UID:698-1673118000-1673128800@www.brianmichaelsmith.com
SUMMARY:Private Event\, Saturday 1/7/23
DESCRIPTION:7
URL:https://www.brianmichaelsmith.com/event/private-event-saturday-1-7-23/
LOCATION:Medallion Country Club\, 5000 Club Drive\, Westerville\, OH\, 43082\, United States
END:VEVENT
BEGIN:VEVENT
DTSTART;TZID=UTC:20221231T200000
DTEND;TZID=UTC:20221231T200000
DTSTAMP:20260423T105507
CREATED:20221222T213727Z
LAST-MODIFIED:20221222T213727Z
UID:671-1672516800-1672516800@www.brianmichaelsmith.com
SUMMARY:New Year's Eve Celebration\, Saturday 12/31/22
DESCRIPTION:We’re excited to be performing in a fabulous new venue to celebrate New Year’s Eve. The Butcher Block in London (just 35 minutes from Columbus) offers fine dining in a rustic wood and stone upscale setting. More info on their Facebook page at https://www.facebook.com/ButcherBlockLondon . Help us ring in the New Year in style!
URL:https://www.brianmichaelsmith.com/event/new-years-eve-celebration-saturday-12-31-22/
LOCATION:The Butcher Block\, 2280 SR 56 SW\, London\, OH\, 43140\, United States
END:VEVENT
BEGIN:VEVENT
DTSTART;TZID=UTC:20221229T200000
DTEND;TZID=UTC:20221229T200000
DTSTAMP:20260423T105507
CREATED:20221223T210309Z
LAST-MODIFIED:20221223T210309Z
UID:684-1672344000-1672344000@www.brianmichaelsmith.com
SUMMARY:Private Event\, Thursday 12/29/22
DESCRIPTION:
URL:https://www.brianmichaelsmith.com/event/private-event-thursday-12-29-22/
LOCATION:Medallion Country Club\, 5000 Club Drive\, Westerville\, OH\, 43082\, United States
END:VEVENT
BEGIN:VEVENT
DTSTART;TZID=UTC:20221224T190000
DTEND;TZID=UTC:20221224T220000
DTSTAMP:20260423T105507
CREATED:20221223T205521Z
LAST-MODIFIED:20221223T205521Z
UID:680-1671908400-1671919200@www.brianmichaelsmith.com
SUMMARY:Private Event\, Saturday 12/24/22
DESCRIPTION:
URL:https://www.brianmichaelsmith.com/event/private-event-saturday-12-24-22/
LOCATION:Scioto Country Club\, 2196 Riverside Drive\, Columbus\, OH\, 43221\, United States
END:VEVENT
BEGIN:VEVENT
DTSTART;TZID=UTC:20221216T200000
DTEND;TZID=UTC:20221216T230000
DTSTAMP:20260423T105507
CREATED:20221211T184803Z
LAST-MODIFIED:20221211T184803Z
UID:664-1671220800-1671231600@www.brianmichaelsmith.com
SUMMARY:Private Event\, Friday 12/16/22
DESCRIPTION:
URL:https://www.brianmichaelsmith.com/event/private-event-friday-12-16-22/
LOCATION:Scioto Country Club\, 2196 Riverside Drive\, Columbus\, OH\, 43221\, United States
END:VEVENT
BEGIN:VEVENT
DTSTART;TZID=UTC:20221214T170000
DTEND;TZID=UTC:20221214T210000
DTSTAMP:20260423T105507
CREATED:20221211T184558Z
LAST-MODIFIED:20221211T184558Z
UID:662-1671037200-1671051600@www.brianmichaelsmith.com
SUMMARY:Private Event\, Wednesday 12/14/22
DESCRIPTION:
URL:https://www.brianmichaelsmith.com/event/private-event-wednesday-12-14-22/
LOCATION:Rocky Fork Country Club\, 5189 Clark State Road\, Gahanna\, OH\, 43230\, United States
END:VEVENT
END:VCALENDAR