BEGIN:VCALENDAR
VERSION:2.0
PRODID:-//Brian Michael Smith - ECPv6.15.20//NONSGML v1.0//EN
CALSCALE:GREGORIAN
METHOD:PUBLISH
X-WR-CALNAME:Brian Michael Smith
X-ORIGINAL-URL:https://www.brianmichaelsmith.com
X-WR-CALDESC:Events for Brian Michael Smith
REFRESH-INTERVAL;VALUE=DURATION:PT1H
X-Robots-Tag:noindex
X-PUBLISHED-TTL:PT1H
BEGIN:VTIMEZONE
TZID:UTC
BEGIN:STANDARD
TZOFFSETFROM:+0000
TZOFFSETTO:+0000
TZNAME:UTC
DTSTART:20180101T000000
END:STANDARD
END:VTIMEZONE
BEGIN:VEVENT
DTSTART;TZID=UTC:20220821T180000
DTEND;TZID=UTC:20220821T193000
DTSTAMP:20260423T222344
CREATED:20220821T182259Z
LAST-MODIFIED:20220825T004055Z
UID:579-1661104800-1661110200@www.brianmichaelsmith.com
SUMMARY:Make a Joyful Noise\, Sunday 8/21/22
DESCRIPTION:Brian Michael Smith and the John Vermeulen Swing Orchestra at Make A Joyful Noise at St. Paul’s Lutheran Church. \nPlease bring lawn chairs for the concert. There will be seating in the Shelter House but personal lawn chairs will be lovely for overflow seating. A free-will offering will be collected at each concert. These funds will help in securing future concert seasons. \nFREE and open to the public.
URL:https://www.brianmichaelsmith.com/event/make-a-joyful-noise-august-21/
LOCATION:St. Paul’s Lutheran Church\, 4686 East Walnut Street\, Westville\, United States
END:VEVENT
BEGIN:VEVENT
DTSTART;TZID=UTC:20191227T190000
DTEND;TZID=UTC:20191227T223000
DTSTAMP:20260423T222344
CREATED:20190929T191927Z
LAST-MODIFIED:20190929T191927Z
UID:514-1577473200-1577485800@www.brianmichaelsmith.com
SUMMARY:Private Event
DESCRIPTION:
URL:https://www.brianmichaelsmith.com/event/private-event-14/
LOCATION:Scioto Country Club\, 2196 Riverside Drive\, Columbus\, OH\, 43221\, United States
END:VEVENT
BEGIN:VEVENT
DTSTART;TZID=UTC:20191213T190000
DTEND;TZID=UTC:20191213T220000
DTSTAMP:20260423T222344
CREATED:20190929T191638Z
LAST-MODIFIED:20190929T191638Z
UID:512-1576263600-1576274400@www.brianmichaelsmith.com
SUMMARY:Private Event - Christmas Show
DESCRIPTION:
URL:https://www.brianmichaelsmith.com/event/private-event-christmas-show/
LOCATION:Villa Milano\, 1630 Shrock Road\, Columbus\, OH\, 43229\, United States
END:VEVENT
BEGIN:VEVENT
DTSTART;TZID=UTC:20191205T200000
DTEND;TZID=UTC:20191205T220000
DTSTAMP:20260423T222344
CREATED:20190929T191548Z
LAST-MODIFIED:20190929T191548Z
UID:510-1575576000-1575583200@www.brianmichaelsmith.com
SUMMARY:Private Event - The Sinatra Show
DESCRIPTION:
URL:https://www.brianmichaelsmith.com/event/private-event-the-sinatra-show-2/
LOCATION:Medallion Country Club\, 5000 Club Drive\, Westerville\, OH\, 43082\, United States
END:VEVENT
BEGIN:VEVENT
DTSTART;TZID=UTC:20191013T140000
DTEND;TZID=UTC:20191013T153000
DTSTAMP:20260423T222344
CREATED:20190929T191415Z
LAST-MODIFIED:20190929T191415Z
UID:508-1570975200-1570980600@www.brianmichaelsmith.com
SUMMARY:The Columbus Italian Festival  Sunday\, October 13\, 2019
DESCRIPTION:This is always a fantastic event! Come get your Italian on! Hope to see you for a wonderful afternoon!
URL:https://www.brianmichaelsmith.com/event/the-columbus-italian-festival-sunday-october-13-2019/
LOCATION:The Columbus Italian festival\, 720 Hamlet Street\, Columbus\, OH\, 43215\, United States
END:VEVENT
BEGIN:VEVENT
DTSTART;TZID=UTC:20191002T180000
DTEND;TZID=UTC:20191002T200000
DTSTAMP:20260423T222344
CREATED:20190929T190928Z
LAST-MODIFIED:20190929T190928Z
UID:506-1570039200-1570046400@www.brianmichaelsmith.com
SUMMARY:The Renaissance at Polaris  Wednesday\, October 2\, 2019
DESCRIPTION:As the Autumn leaves are drifting by your window\, join me on Wednesday\, October 2nd at The Renaissance at Polaris for wonderful music\, great drinks and fantastic food!
URL:https://www.brianmichaelsmith.com/event/the-renaissance-at-polaris-wednesday-october-2-2019/
LOCATION:The Renaissance at Polaris\, OH\, 43082\, United States
END:VEVENT
BEGIN:VEVENT
DTSTART;TZID=UTC:20190927T060000
DTEND;TZID=UTC:20190927T200000
DTSTAMP:20260423T222344
CREATED:20190929T190740Z
LAST-MODIFIED:20190929T190740Z
UID:502-1569564000-1569614400@www.brianmichaelsmith.com
SUMMARY:The Westerville Public Library  Friday\, September 27\, 2019
DESCRIPTION:Join me for an “in the air” concert at the Westerville Public Library celebrating the songs of the Prohibition era!  It’s a wonderful way to spend an autumn evening!
URL:https://www.brianmichaelsmith.com/event/the-westerville-public-library-friday-september-27-2019/
LOCATION:The Westerville Public Library\, 126 S. State Street\, Westerville\, OH\, 43082\, United States
END:VEVENT
BEGIN:VEVENT
DTSTART;TZID=UTC:20190918T193000
DTEND;TZID=UTC:20190918T223000
DTSTAMP:20260423T222344
CREATED:20190929T190205Z
LAST-MODIFIED:20190929T190205Z
UID:496-1568835000-1568845800@www.brianmichaelsmith.com
SUMMARY:Private Event - The Sinatra Show
DESCRIPTION:
URL:https://www.brianmichaelsmith.com/event/private-event-the-sinatra-show/
LOCATION:New Albany Country Club\, One Club Lane\, New Albany\, OH\, 43054\, United States
END:VEVENT
BEGIN:VEVENT
DTSTART;TZID=UTC:20190911T180000
DTEND;TZID=UTC:20190911T200000
DTSTAMP:20260423T222344
CREATED:20190929T190333Z
LAST-MODIFIED:20190929T190333Z
UID:500-1568224800-1568232000@www.brianmichaelsmith.com
SUMMARY:The Renaissance at Polaris Wednesday\, September 11\, 2019
DESCRIPTION:Even though it’s almost September\, Summer isn’t over yet! Come and spend the waning days of Summer with my trio and me in a beautiful atmosphere\, with great food and drinks and lots of room for dancing!
URL:https://www.brianmichaelsmith.com/event/the-renaissance-at-polaris-wednesday-september-11-2019/
LOCATION:The Renaissance at Polaris\, OH\, 43082\, United States
END:VEVENT
BEGIN:VEVENT
DTSTART;TZID=UTC:20190807T180000
DTEND;TZID=UTC:20190807T200000
DTSTAMP:20260423T222344
CREATED:20190929T185830Z
LAST-MODIFIED:20190929T185830Z
UID:494-1565200800-1565208000@www.brianmichaelsmith.com
SUMMARY:The Renaissance at Polaris Wednesday\, August 7\, 2019
DESCRIPTION:“The Summer Breeze always makes me feel fine” and I’m back at The Renaissance at Polaris with my trio!  Come and join me for an evening of dancing\, delicious food and drink and wonderful music!
URL:https://www.brianmichaelsmith.com/event/the-renaissance-at-polaris-wednesday-august-7-2019/
LOCATION:The Renaissance at Polaris\, OH\, 43082\, United States
END:VEVENT
BEGIN:VEVENT
DTSTART;TZID=UTC:20190711T203000
DTEND;TZID=UTC:20190711T223000
DTSTAMP:20260423T222344
CREATED:20190929T185629Z
LAST-MODIFIED:20190929T185629Z
UID:489-1562877000-1562884200@www.brianmichaelsmith.com
SUMMARY:Private Event
DESCRIPTION:
URL:https://www.brianmichaelsmith.com/event/private-event-13/
LOCATION:Medallion Country Club\, 5000 Club Drive\, Westerville\, OH\, 43082\, United States
END:VEVENT
BEGIN:VEVENT
DTSTART;TZID=UTC:20190711T180000
DTEND;TZID=UTC:20190711T193000
DTSTAMP:20260423T222344
CREATED:20190929T185347Z
LAST-MODIFIED:20190929T185347Z
UID:487-1562868000-1562873400@www.brianmichaelsmith.com
SUMMARY:Private Event
DESCRIPTION:
URL:https://www.brianmichaelsmith.com/event/private-event-12/
END:VEVENT
BEGIN:VEVENT
DTSTART;TZID=UTC:20190710T180000
DTEND;TZID=UTC:20190710T200000
DTSTAMP:20260423T222344
CREATED:20190929T184616Z
LAST-MODIFIED:20190929T184616Z
UID:482-1562781600-1562788800@www.brianmichaelsmith.com
SUMMARY:The Renaissance at Polaris Wednesday\, July 10\, 2019
DESCRIPTION:I’m back again this Wednesday at the Renaissance at Polaris! This Summer is HOT\, but the music will be so very cool… I hope to see you there!
URL:https://www.brianmichaelsmith.com/event/the-renaissance-at-polaris-wednesday-july-10-2019/
LOCATION:The Renaissance at Polaris\, OH\, 43082\, United States
END:VEVENT
BEGIN:VEVENT
DTSTART;TZID=UTC:20190708T180000
DTEND;TZID=UTC:20190708T220000
DTSTAMP:20260423T222344
CREATED:20220819T190152Z
LAST-MODIFIED:20220819T190152Z
UID:541-1562608800-1562623200@www.brianmichaelsmith.com
SUMMARY:Private Event
DESCRIPTION:New Albany Country Club\, New Albany
URL:https://www.brianmichaelsmith.com/event/private-event-16/
LOCATION:New Albany Country Club\, One Club Lane\, New Albany\, OH\, 43054\, United States
END:VEVENT
BEGIN:VEVENT
DTSTART;TZID=UTC:20190623T180000
DTEND;TZID=UTC:20190623T203000
DTSTAMP:20260423T222344
CREATED:20190929T184347Z
LAST-MODIFIED:20190929T184347Z
UID:480-1561312800-1561321800@www.brianmichaelsmith.com
SUMMARY:Westerville Sounds of Summer Concert Series  Sunday\, June 23\, 2019
DESCRIPTION:It’s that time of year again – join me for the Westerville Sounds of Summer Concert Series. Bring a blanket\, a chair or a picnic basket and enjoy a wonderful evening!
URL:https://www.brianmichaelsmith.com/event/westerville-sounds-of-summer-concert-series-sunday-june-23-2019/
LOCATION:Alum Creek Amphitheatre\, 221 East Main Street\, Westerville\, OH\, United States
END:VEVENT
BEGIN:VEVENT
DTSTART;TZID=UTC:20190616T160000
DTEND;TZID=UTC:20190616T173000
DTSTAMP:20260423T222344
CREATED:20190331T211952Z
LAST-MODIFIED:20190331T211952Z
UID:466-1560700800-1560706200@www.brianmichaelsmith.com
SUMMARY:Creekside Blues & Jazz Festival 6.16.19
DESCRIPTION:I am thrilled to be a part of the Creekside Blues & Jazz Festival this year with the John Vermeulen Octet.  Known as the showcase for the “best blues and jazz music in Ohio\,” the Creekside Blues & Jazz Festival (“CBJF”) is a premier family event destination.  The Festival is a three-day cultural event that features more than 90 hours of world-class music on five stages\, mouth-watering cuisine\, regional artisans\, amusement rides\, family activities and more. \nIt’s an event that I’m really looking forward to and you shouldn’t miss!  Remember – I’ll be on the Jazz Stage!
URL:https://www.brianmichaelsmith.com/event/creekside-blues-jazz-festival-6-16-19/
LOCATION:Creekside Blues & Jazz Festival\, 123 Mill Street\, Gahanna\, OH\, 43230\, United States
END:VEVENT
BEGIN:VEVENT
DTSTART;TZID=UTC:20190518T193000
DTEND;TZID=UTC:20190518T213000
DTSTAMP:20260423T222344
CREATED:20190331T210205Z
LAST-MODIFIED:20190331T210205Z
UID:464-1558207800-1558215000@www.brianmichaelsmith.com
SUMMARY:HWE Big Band 5.18.19
DESCRIPTION:Please join me with the HWE Big Band for a night of Sinatra and Swing!  I’ll be performing with them at the Reese Center at The Ohio State University Newark campus.  It’s going to be a wonderful night singing with a fantastic big band!
URL:https://www.brianmichaelsmith.com/event/hwe-big-band-5-18-19/
LOCATION:The Reese Center at The Ohio State University\, 1209 University Drive\, Newark\, OH\, 43055\, United States
END:VEVENT
BEGIN:VEVENT
DTSTART;TZID=UTC:20190517T180000
DTEND;TZID=UTC:20190517T220000
DTSTAMP:20260423T222344
CREATED:20190331T205450Z
LAST-MODIFIED:20190331T210307Z
UID:460-1558116000-1558130400@www.brianmichaelsmith.com
SUMMARY:Private Event 5.17.19
DESCRIPTION:
URL:https://www.brianmichaelsmith.com/event/private-event-5-17-19/
LOCATION:The Reese Center at The Ohio State University\, 1209 University Drive\, Newark\, OH\, 43055\, United States
END:VEVENT
BEGIN:VEVENT
DTSTART;TZID=UTC:20190503T183000
DTEND;TZID=UTC:20190503T213000
DTSTAMP:20260423T222344
CREATED:20190331T203658Z
LAST-MODIFIED:20190331T203658Z
UID:454-1556908200-1556919000@www.brianmichaelsmith.com
SUMMARY:Private Event 5.3.19
DESCRIPTION:
URL:https://www.brianmichaelsmith.com/event/private-event-5-3-19/
LOCATION:Rocky Fork Country Club\, 5189 Clark State Road\, Gahanna\, OH\, 43230\, United States
END:VEVENT
BEGIN:VEVENT
DTSTART;TZID=UTC:20190503T113000
DTEND;TZID=UTC:20190503T130000
DTSTAMP:20260423T222344
CREATED:20190331T203317Z
LAST-MODIFIED:20190331T203317Z
UID:452-1556883000-1556888400@www.brianmichaelsmith.com
SUMMARY:Ohio Military Hall of Fame 2019 Induction Ceremony 5.3.19
DESCRIPTION:It is indeed a privilege to be asked once again to honor our brave Ohio men and women in uniform as they are inducted into the Ohio Military Hall of Fame. This incredible event is open to the public. Please come and say “thank you” to these amazing heroes.
URL:https://www.brianmichaelsmith.com/event/ohio-military-hall-of-fame-2019-induction-ceremony-5-3-19/
LOCATION:The Atrium\, Ohio Statehouse\, 1 East Capital St.\, Columbus\, OH\, 43215\, United States
END:VEVENT
BEGIN:VEVENT
DTSTART;TZID=UTC:20190501T180000
DTEND;TZID=UTC:20190501T200000
DTSTAMP:20260423T222344
CREATED:20190212T000558Z
LAST-MODIFIED:20190212T000558Z
UID:431-1556733600-1556740800@www.brianmichaelsmith.com
SUMMARY:The Two One at The Renaissance at Polaris 5.1.19
DESCRIPTION:Join me again at The Two One at the Renaissance at Polaris for a truly unique experience!  There will be dancing room for all\, wonderful prohibition-style cocktails and a night you won’t soon forget!
URL:https://www.brianmichaelsmith.com/event/the-two-one-at-the-renaissance-at-polaris-5-1-19/
LOCATION:The Renaissance at Polaris\, OH\, 43082\, United States
END:VEVENT
BEGIN:VEVENT
DTSTART;TZID=UTC:20190427T193000
DTEND;TZID=UTC:20190427T223000
DTSTAMP:20260423T222344
CREATED:20190331T201911Z
LAST-MODIFIED:20190331T201911Z
UID:442-1556393400-1556404200@www.brianmichaelsmith.com
SUMMARY:Private Event 4.27.19
DESCRIPTION:
URL:https://www.brianmichaelsmith.com/event/private-event-4-27-19/
LOCATION:The Skylight\, 85 East Main Street\, Newark\, OH\, 43055\, United States
END:VEVENT
BEGIN:VEVENT
DTSTART;TZID=UTC:20190413T180000
DTEND;TZID=UTC:20190413T223000
DTSTAMP:20260423T222344
CREATED:20190331T204054Z
LAST-MODIFIED:20190331T204054Z
UID:458-1555178400-1555194600@www.brianmichaelsmith.com
SUMMARY:Private Event 4.13.19
DESCRIPTION:
URL:https://www.brianmichaelsmith.com/event/private-event-4-13-19/
LOCATION:Bishop Hartley High School\, 1285 Zettler Road\, Columbus\, OH\, 43209\, United States
END:VEVENT
BEGIN:VEVENT
DTSTART;TZID=UTC:20190410T180000
DTEND;TZID=UTC:20190410T210000
DTSTAMP:20260423T222344
CREATED:20190331T202652Z
LAST-MODIFIED:20190331T202652Z
UID:446-1554919200-1554930000@www.brianmichaelsmith.com
SUMMARY:Monte Carlo Italian Kitchen 4.10.19
DESCRIPTION:Come join me at the Monte Carlo Italian Kitchen Wine Tasting!  Enjoy 6 Vanguard wines and appetizers for only $20 while listening to me and my trio from 6:00 to 9:00 PM.    Reservations are recommended.  It should be a fun night in a new venue for me and the trio!
URL:https://www.brianmichaelsmith.com/event/monte-carlo-italian-kitchen-4-10-19/
LOCATION:Monte Carlo Italian Kitchen\, 345 West Olentangy Street\, Powell\, OH\, 43065\, United States
END:VEVENT
BEGIN:VEVENT
DTSTART;TZID=UTC:20190405T190000
DTEND;TZID=UTC:20190405T220000
DTSTAMP:20260423T222344
CREATED:20190331T201357Z
LAST-MODIFIED:20190331T201357Z
UID:438-1554490800-1554501600@www.brianmichaelsmith.com
SUMMARY:Private Event 4.5.19
DESCRIPTION:
URL:https://www.brianmichaelsmith.com/event/private-event-4-5-19/
LOCATION:Harbor Hills Country Club\, 225 Freeman Memorial Drive\, Hebron\, OH\, 43025\, United States
END:VEVENT
BEGIN:VEVENT
DTSTART;TZID=UTC:20190403T180000
DTEND;TZID=UTC:20190403T200000
DTSTAMP:20260423T222344
CREATED:20190212T000149Z
LAST-MODIFIED:20190212T000149Z
UID:424-1554314400-1554321600@www.brianmichaelsmith.com
SUMMARY:The Two One at The Renaissance at Polaris 4.3.19
DESCRIPTION:No cover and it’s me with the trio!  Start an incredible evening with the Bar Ritual.  Their expert bartenders will craft a prohibition-style cocktail and offer you a free tasting. \nThe relax in their comfortable seating for my entertainment and take a few twirls on the spacious dance floor!
URL:https://www.brianmichaelsmith.com/event/the-two-one-at-the-renaissance-at-polaris-4-3-19/
LOCATION:The Renaissance at Polaris\, 409 Altair Parkway\, Westerville\, OH\, 43082\, United States
END:VEVENT
BEGIN:VEVENT
DTSTART;TZID=UTC:20190304T193000
DTEND;TZID=UTC:20190304T223000
DTSTAMP:20260423T222344
CREATED:20190211T235136Z
LAST-MODIFIED:20190211T235136Z
UID:420-1551727800-1551738600@www.brianmichaelsmith.com
SUMMARY:Ashland Jazz Arts Group 3.4.19
DESCRIPTION:Come and spend a swinging night with me and the John Vermeulen Octet with the Ashland Jazz Arts Group!
URL:https://www.brianmichaelsmith.com/event/ashland-jazz-arts-group-3-4-19/
LOCATION:Ashland High School\, 1440 King Road\, Ashland\, OH\, 44805\, United States
END:VEVENT
BEGIN:VEVENT
DTSTART;TZID=UTC:20190216T193000
DTEND;TZID=UTC:20190216T223000
DTSTAMP:20260423T222344
CREATED:20190211T234536Z
LAST-MODIFIED:20190211T234536Z
UID:418-1550345400-1550356200@www.brianmichaelsmith.com
SUMMARY:Valentine's Day Weekend at La Scala Italian Bistro 2.16.19
DESCRIPTION:It’s February and you know what that means – it’s all things Valentine’s! Don’t wait to make your reservations for you and your sweetheart at La Scala!
URL:https://www.brianmichaelsmith.com/event/valentines-day-weekend-at-la-scala-italian-bistro-2-16-19/
LOCATION:La Scala Italian Bistro Restaurant\, 4199 W Dublin Granville Rd\, Dublin\, OH\, 43017\, United States
END:VEVENT
BEGIN:VEVENT
DTSTART;TZID=UTC:20190216T140000
DTEND;TZID=UTC:20190216T180000
DTSTAMP:20260423T222344
CREATED:20190211T234110Z
LAST-MODIFIED:20190211T234110Z
UID:416-1550325600-1550340000@www.brianmichaelsmith.com
SUMMARY:Private Event 2.16.19
DESCRIPTION:
URL:https://www.brianmichaelsmith.com/event/private-event-2-16-19/
LOCATION:La Scala Italian Bistro Restaurant\, 4199 W Dublin Granville Rd\, Dublin\, OH\, 43017\, United States
END:VEVENT
BEGIN:VEVENT
DTSTART;TZID=UTC:20190201T173000
DTEND;TZID=UTC:20190211T213000
DTSTAMP:20260423T222344
CREATED:20190211T234009Z
LAST-MODIFIED:20190211T234009Z
UID:414-1549042200-1549920600@www.brianmichaelsmith.com
SUMMARY:Private Event 2.1.19
DESCRIPTION:
URL:https://www.brianmichaelsmith.com/event/private-event-2-1-19/
END:VEVENT
END:VCALENDAR