BEGIN:VCALENDAR
VERSION:2.0
PRODID:-//Brian Michael Smith - ECPv6.15.20//NONSGML v1.0//EN
CALSCALE:GREGORIAN
METHOD:PUBLISH
X-WR-CALNAME:Brian Michael Smith
X-ORIGINAL-URL:https://www.brianmichaelsmith.com
X-WR-CALDESC:Events for Brian Michael Smith
REFRESH-INTERVAL;VALUE=DURATION:PT1H
X-Robots-Tag:noindex
X-PUBLISHED-TTL:PT1H
BEGIN:VTIMEZONE
TZID:UTC
BEGIN:STANDARD
TZOFFSETFROM:+0000
TZOFFSETTO:+0000
TZNAME:UTC
DTSTART:20170101T000000
END:STANDARD
END:VTIMEZONE
BEGIN:VEVENT
DTSTART;TZID=UTC:20190112T173000
DTEND;TZID=UTC:20190112T213000
DTSTAMP:20260423T234519
CREATED:20190211T233917Z
LAST-MODIFIED:20190211T233917Z
UID:412-1547314200-1547328600@www.brianmichaelsmith.com
SUMMARY:Private Event 1.12.19
DESCRIPTION:
URL:https://www.brianmichaelsmith.com/event/private-event-1-12-19/
LOCATION:OH
END:VEVENT
BEGIN:VEVENT
DTSTART;TZID=UTC:20181231T210000
DTEND;TZID=UTC:20190101T010000
DTSTAMP:20260423T234519
CREATED:20190211T233624Z
LAST-MODIFIED:20190211T233624Z
UID:409-1546290000-1546304400@www.brianmichaelsmith.com
SUMMARY:New Year's Eve at La Scala Italian Bistro 12.31.18
DESCRIPTION:Ring in the New Year with me at La Scala Italian Bistro!
URL:https://www.brianmichaelsmith.com/event/new-years-eve-at-la-scala-italian-bistro-12-31-18/
LOCATION:La Scala Italian Bistro Restaurant\, 4199 W Dublin Granville Rd\, Dublin\, OH\, 43017\, United States
END:VEVENT
BEGIN:VEVENT
DTSTART;TZID=UTC:20181226T180000
DTEND;TZID=UTC:20181226T210000
DTSTAMP:20260423T234519
CREATED:20190211T233335Z
LAST-MODIFIED:20190211T233335Z
UID:407-1545847200-1545858000@www.brianmichaelsmith.com
SUMMARY:The Refectory Dinner Music Series 12.26.18
DESCRIPTION:Make Christmas a two day affair and celebrate with me at The Refectory on December 26th!
URL:https://www.brianmichaelsmith.com/event/the-refectory-dinner-music-series-12-26-18/
LOCATION:OH
END:VEVENT
BEGIN:VEVENT
DTSTART;TZID=UTC:20181217T193000
DTEND;TZID=UTC:20181217T220000
DTSTAMP:20260423T234519
CREATED:20190211T232855Z
LAST-MODIFIED:20190211T232855Z
UID:403-1545075000-1545084000@www.brianmichaelsmith.com
SUMMARY:Clintonville Woman's Club 12.17.18
DESCRIPTION:A Last Minute Holiday Surprise!! Even if you’re busy with Christmas shopping or holiday events\, feel free to drop in for all or just part of the evening because it’s going to be a fun night!
URL:https://www.brianmichaelsmith.com/event/clintonville-womans-club-12-17-18/
LOCATION:Clintonville Women’s Club\, 3951 North High Street\, Columbus\, OH\, 43214\, United States
END:VEVENT
BEGIN:VEVENT
DTSTART;TZID=UTC:20181207T170000
DTEND;TZID=UTC:20181207T193000
DTSTAMP:20260423T234519
CREATED:20190211T232514Z
LAST-MODIFIED:20190211T232514Z
UID:401-1544202000-1544211000@www.brianmichaelsmith.com
SUMMARY:Private Event 12.7.18  Villa Milano
DESCRIPTION:
URL:https://www.brianmichaelsmith.com/event/private-event-12-7-18-villa-milano/
LOCATION:Villa Milano\, 1630 Shrock Road\, Columbus\, OH\, 43229\, United States
END:VEVENT
BEGIN:VEVENT
DTSTART;TZID=UTC:20181123T193000
DTEND;TZID=UTC:20181123T223000
DTSTAMP:20260423T234519
CREATED:20190211T232108Z
LAST-MODIFIED:20190211T232108Z
UID:399-1543001400-1543012200@www.brianmichaelsmith.com
SUMMARY:Sinatra Holiday Show at La Scala
DESCRIPTION:Come and “dance your turkey and stuffing off” and have a little holiday cheer with me and the John Vermeulen Octet at La Scala! Reservations are required and it’s the perfect way to start the holiday season! \n 
URL:https://www.brianmichaelsmith.com/event/sinatra-holiday-show-at-la-scala/
LOCATION:La Scala Italian Bistro
END:VEVENT
END:VCALENDAR