BEGIN:VCALENDAR
VERSION:2.0
PRODID:-//Brian Michael Smith - ECPv6.15.20//NONSGML v1.0//EN
CALSCALE:GREGORIAN
METHOD:PUBLISH
X-WR-CALNAME:Brian Michael Smith
X-ORIGINAL-URL:https://www.brianmichaelsmith.com
X-WR-CALDESC:Events for Brian Michael Smith
REFRESH-INTERVAL;VALUE=DURATION:PT1H
X-Robots-Tag:noindex
X-PUBLISHED-TTL:PT1H
BEGIN:VTIMEZONE
TZID:UTC
BEGIN:STANDARD
TZOFFSETFROM:+0000
TZOFFSETTO:+0000
TZNAME:UTC
DTSTART:20230101T000000
END:STANDARD
END:VTIMEZONE
BEGIN:VEVENT
DTSTART;TZID=UTC:20250216T200000
DTEND;TZID=UTC:20250216T213000
DTSTAMP:20260420T001543
CREATED:20250112T224853Z
LAST-MODIFIED:20250112T224853Z
UID:1409-1739736000-1739741400@www.brianmichaelsmith.com
SUMMARY:"With Love\, Sinatra" Valentine Concert\, Sunday 1/16/25
DESCRIPTION:Fall in love with timeless romance and celebrate Valentine’s Day with us at “With Love\, Sinatra.” This Concert under the Stars event promises to be an enchanting evening of beloved classics from Frank Sinatra. Let Old Blue Eyes’ magical melodies sweep you off your feet and have you slow dancing in the aisles! \nCome and feel the love at this truly romantic experience in the ballroom at Vitria on the Square\, the city’s premier event venue. Located in the heart of Columbus at 15th and High\, it offers an intimate and refined setting with plush seating and city views. Full bar and light bites available for purchase. \nTickets available for $45\, $55\, $80 HERE. \n“See you soon. \nWith Love\, Sinatra” \n 
URL:https://www.brianmichaelsmith.com/event/with-love-sinatra-valentine-concert-sunday-1-16-25/
LOCATION:Vitria on the Square\, 14 East 15th Avenue\, Columbus\, OH\, 43201\, United States
END:VEVENT
BEGIN:VEVENT
DTSTART;TZID=UTC:20250208T200000
DTEND;TZID=UTC:20250208T230000
DTSTAMP:20260420T001543
CREATED:20250114T201816Z
LAST-MODIFIED:20250114T201816Z
UID:1418-1739044800-1739055600@www.brianmichaelsmith.com
SUMMARY:Saturday Night Live Music in the Wine Bar\, 2/8/25
DESCRIPTION:Celebrate an early Valentine’s Day with Brian Michael Smith and his Trio in the Wine Bar at Hyde Park Prime Steakhouse. \nRelax at the bar with drinks and appetizers or fine dining at tables. Chef-inspired menu featuring a variation of legendary aged boutique cut steaks\, market fresh seafood\, and chef-crafted seasonal features. Located in the Short North on the CAP at Union Station.
URL:https://www.brianmichaelsmith.com/event/saturday-night-live-music-in-the-wine-bar-2-8-25/
LOCATION:Hyde Park Prime Steakhouse\, 569 North High St\, Columbus\, OH\, 43215\, United States
END:VEVENT
BEGIN:VEVENT
DTSTART;TZID=UTC:20250207T193000
DTEND;TZID=UTC:20250207T213000
DTSTAMP:20260420T001543
CREATED:20250102T230823Z
LAST-MODIFIED:20250102T232755Z
UID:1401-1738956600-1738963800@www.brianmichaelsmith.com
SUMMARY:Tribute to Count Basie & Frank Sinatra\, Friday 2/7/25
DESCRIPTION:The Artistic Jazz Orchestra (AJO) returns to the Renaissance Theatre to pay tribute to the legendary Count Basie Orchestra. Led by Maestro Paul Martin\, the AJO will deliver some of Count Basie’s most iconic works. Special guest artist Brian Michael Smith\, a Sinatra-style crooner\, will perform Sinatra-Basie collaborations. This concert promises to captivate jazz lovers and swing fans alike. Experience the vibrant music of one of jazz’s all-time greats! Get tickets $15-$30 HERE
URL:https://www.brianmichaelsmith.com/event/tribute-to-count-basie-frank-sinatra-friday-2-7-25/
LOCATION:Renaissance Performing Arts Center\, 138 Park Avenue West\, Mansfield\, OH\, 44902\, United States
END:VEVENT
BEGIN:VEVENT
DTSTART;TZID=UTC:20250104T200000
DTEND;TZID=UTC:20250104T230000
DTSTAMP:20260420T001543
CREATED:20241222T015819Z
LAST-MODIFIED:20241222T015819Z
UID:1391-1736020800-1736031600@www.brianmichaelsmith.com
SUMMARY:Saturday Night Live Music in the Wine Bar\, 1/4/25
DESCRIPTION:Live Music with Brian Michael Smith and his Trio in the Wine Bar at Hyde Park Prime Steakhouse. \nRelax at the bar with drinks and appetizers or fine dining at tables. Chef-inspired menu featuring a variation of legendary aged boutique cut steaks\, market fresh seafood\, and chef-crafted seasonal features. Located in the Short North on the CAP at Union Station.
URL:https://www.brianmichaelsmith.com/event/saturday-night-live-music-in-the-wine-bar-1-4-25/
LOCATION:Hyde Park Prime Steakhouse\, 569 North High St\, Columbus\, OH\, 43215\, United States
END:VEVENT
BEGIN:VEVENT
DTSTART;TZID=UTC:20241222T200000
DTEND;TZID=UTC:20241222T213000
DTSTAMP:20260420T001543
CREATED:20241203T235147Z
LAST-MODIFIED:20241209T220324Z
UID:1372-1734897600-1734903000@www.brianmichaelsmith.com
SUMMARY:A Very Sinatra Christmas Special\, Sunday 12/22/24
DESCRIPTION:DUE TO POPULAR DEMAND AND A NEARLY SOLD OUT CONCERT ON 12/15/24\, A SECOND SHOW HAS BEEN ADDED ON 12/22/24! \nConcerts under the Stars presents A Very Sinatra Christmas Special with Brian Michael Smith and his Swing Band for a magical night listening to the smooth sounds of Ol’ Blue Eyes. \nThis festive concert will feature Sinatra’s most-loved holiday songs\, including “White Christmas\,” “The Christmas Song\,” and “Have Yourself a Merry Little Christmas.” It’s a night designed for those who appreciate Sinatra’s legacy and want to enjoy the warmth and nostalgia of the season. \nBring a sense of holiday style or come as you are\, and let the music of Sinatra make this December a time to remember. This is holiday entertainment at its finest—perfect for friends\, family\, or a special night out. \nAt Vitria on the Square\, located in the heart of Columbus\, This amazing venue offers an intimate and refined setting with plush seating and city views. Enjoy holiday cocktails and light bites for purchase as you relax and let Sinatra’s holiday classics fill the air\, creating a cozy and inviting atmosphere for friends\, family\, or a special date night. Vitria on the Square is at 15th and High\, near Ohio State. \nAll tickets ($45\, $55\, $80) available HERE. \n 
URL:https://www.brianmichaelsmith.com/event/a-very-sinatra-christmas-special-saturday-12-21-24/
LOCATION:Vitria on the Square\, 14 East 15th Avenue\, Columbus\, OH\, 43201\, United States
END:VEVENT
BEGIN:VEVENT
DTSTART;TZID=UTC:20241221T200000
DTEND;TZID=UTC:20241221T230000
DTSTAMP:20260420T001543
CREATED:20241215T174350Z
LAST-MODIFIED:20241215T174350Z
UID:1379-1734811200-1734822000@www.brianmichaelsmith.com
SUMMARY:Private Christmas Party\, Saturday 12/21/24
DESCRIPTION:Private House Party in Muirfield.
URL:https://www.brianmichaelsmith.com/event/private-christmas-party-saturday-12-21-24/
LOCATION:NY
END:VEVENT
BEGIN:VEVENT
DTSTART;TZID=UTC:20241220T160000
DTEND;TZID=UTC:20241220T180000
DTSTAMP:20260420T001543
CREATED:20241215T175157Z
LAST-MODIFIED:20241215T175157Z
UID:1385-1734710400-1734717600@www.brianmichaelsmith.com
SUMMARY:Private Holiday Office Party\, Friday 12/20/24
DESCRIPTION:Holiday Office Party
URL:https://www.brianmichaelsmith.com/event/private-holiday-office-party-friday-12-20-24/
LOCATION:NY
END:VEVENT
BEGIN:VEVENT
DTSTART;TZID=UTC:20241218T180000
DTEND;TZID=UTC:20241218T210000
DTSTAMP:20260420T001543
CREATED:20241215T174818Z
LAST-MODIFIED:20241215T174836Z
UID:1382-1734544800-1734555600@www.brianmichaelsmith.com
SUMMARY:Private Celebration\, Wednesday 12/18/24
DESCRIPTION:Private Party to Celebrate 50th Anniversary
URL:https://www.brianmichaelsmith.com/event/private-celebration-12-18-24/
LOCATION:Harbor Hills Country Club\, 225 Freeman Memorial Drive\, Hebron\, OH\, 43025\, United States
END:VEVENT
BEGIN:VEVENT
DTSTART;TZID=UTC:20241215T200000
DTEND;TZID=UTC:20241215T213000
DTSTAMP:20260420T001543
CREATED:20241117T225201Z
LAST-MODIFIED:20241203T234240Z
UID:1356-1734292800-1734298200@www.brianmichaelsmith.com
SUMMARY:A Very Sinatra Christmas Special\, Sunday 12/15/24
DESCRIPTION:Concerts under the Stars presents A Very Sinatra Christmas Special  with Brian Michael Smith and his Swing Band for a magical night listening to the smooth sounds of Ol’ Blue Eyes. \nThis festive concert will feature Sinatra’s most-loved holiday songs\, including “White Christmas\,” “The Christmas Song\,” and “Have Yourself a Merry Little Christmas.” It’s a night designed for those who appreciate Sinatra’s legacy and want to enjoy the warmth and nostalgia of the season. \nBring a sense of holiday style or come as you are\, and let the music of Sinatra make this December a time to remember. This is holiday entertainment at its finest—perfect for friends\, family\, or a special night out. \nAt Vitria on the Square\, located in the heart of Columbus\, This amazing venue offers an intimate and refined setting with plush seating and city views. Enjoy holiday cocktails and light bites for purchase as you relax and let Sinatra’s holiday classics fill the air\, creating a cozy and inviting atmosphere for friends\, family\, or a special date night. Vitria on the Square is at 15th and High\, near Ohio State. \nAll tickets available HERE. \n 
URL:https://www.brianmichaelsmith.com/event/a-very-sinatra-christmas-special/
LOCATION:Vitria on the Square\, 14 East 15th Avenue\, Columbus\, OH\, 43201\, United States
END:VEVENT
BEGIN:VEVENT
DTSTART;TZID=UTC:20241212T173000
DTEND;TZID=UTC:20241212T203000
DTSTAMP:20260420T001543
CREATED:20241206T001224Z
LAST-MODIFIED:20241206T001534Z
UID:1374-1734024600-1734035400@www.brianmichaelsmith.com
SUMMARY:Private Christmas Party\, Thursday\, 12/12/24
DESCRIPTION:Private Holiday Celebration at Columbus Country Club.
URL:https://www.brianmichaelsmith.com/event/private-christmas-party-thursday-12-12-24/
LOCATION:Columbus Country Club\, 4831 East Broad Street\, Clumbus\, Ohio\, United States
END:VEVENT
BEGIN:VEVENT
DTSTART;TZID=UTC:20241209T193000
DTEND;TZID=UTC:20241209T220000
DTSTAMP:20260420T001543
CREATED:20241030T222448Z
LAST-MODIFIED:20241030T222448Z
UID:1349-1733772600-1733781600@www.brianmichaelsmith.com
SUMMARY:An Evening of Live Big Band Music\, Monday 12/9/24
DESCRIPTION:SINATRA LIVES with Brian Michael Smith and Vaughn Wiester’s Famous Jazz Orchestra at The Clintonville Women’s Club. Snacks for purchase and BYO Beer\, wine or liquor. $15 admission at the door. $10 for students. Open to the public.
URL:https://www.brianmichaelsmith.com/event/an-evening-of-live-big-band-music-monday-12-9-24/
LOCATION:Clintonville Women’s Club\, 3951 North High Street\, Columbus\, OH\, 43214\, United States
END:VEVENT
BEGIN:VEVENT
DTSTART;TZID=UTC:20241129T193000
DTEND;TZID=UTC:20241129T220000
DTSTAMP:20260420T001543
CREATED:20241128T175040Z
LAST-MODIFIED:20241128T175040Z
UID:1367-1732908600-1732917600@www.brianmichaelsmith.com
SUMMARY:Music & Dancing at Valley Dale\, Friday\, 11/29/24
DESCRIPTION:An evening of live music and dancing in the famous Valley Dale Ballroom\, the largest dance floor in Columbus. $15 Cover\, Cash Bar\, Food Available for Purchase.
URL:https://www.brianmichaelsmith.com/event/music-dancing-at-valley-dale-friday-11-29-24/
LOCATION:Valley Dale Ballroom\, 1590 Sunbury Road\, Columbus\, NY\, 10705\, United States
END:VEVENT
BEGIN:VEVENT
DTSTART;TZID=UTC:20241102T200000
DTEND;TZID=UTC:20241102T230000
DTSTAMP:20260420T001543
CREATED:20241030T221354Z
LAST-MODIFIED:20241030T221354Z
UID:1345-1730577600-1730588400@www.brianmichaelsmith.com
SUMMARY:Saturday Night Live Music at Hyde Park\, 11/2/24
DESCRIPTION:Live Music with Brian Michael Smith and his Trio in the Wine Bar at Hyde Park Prime Steakhouse. \n \nRelax at the bar with drinks and appetizers or fine dining at tables. Chef-inspired menu featuring a variation of legendary aged boutique cut steaks\, market fresh seafood\, and chef-crafted seasonal features. Located in the Short North on the CAP at Union Station.
URL:https://www.brianmichaelsmith.com/event/saturday-night-live-music-at-hyde-park-11-2-24/
LOCATION:Hyde Park Prime Steakhouse\, 569 North High St\, Columbus\, OH\, 43215\, United States
END:VEVENT
BEGIN:VEVENT
DTSTART;TZID=UTC:20241004T190000
DTEND;TZID=UTC:20241004T220000
DTSTAMP:20260420T001543
CREATED:20240730T195527Z
LAST-MODIFIED:20240730T195527Z
UID:1338-1728068400-1728079200@www.brianmichaelsmith.com
SUMMARY:Private Party\, Friday 10/4/24
DESCRIPTION:Private Birthday Celebration.
URL:https://www.brianmichaelsmith.com/event/private-party-friday-10-4-24/
LOCATION:The Club at Tartan Fields\, 8070 Tartan Fields Drive\, Dublin\, OH\, 43017\, United States
END:VEVENT
BEGIN:VEVENT
DTSTART;TZID=UTC:20240917T060000
DTEND;TZID=UTC:20240917T200000
DTSTAMP:20260420T001543
CREATED:20240709T211314Z
LAST-MODIFIED:20240709T211314Z
UID:1335-1726552800-1726603200@www.brianmichaelsmith.com
SUMMARY:Private Event\, Tuesday 9/17/24
DESCRIPTION:Private Party\, Mt Carmel Rehabilitation Stroke Center Celebrating Stroke Survivors\, Everal Barn and Homestead\, Westerville.
URL:https://www.brianmichaelsmith.com/event/private-event-tuesday-9-17-24/
LOCATION:Everal Barn and Homestead\, 60 North Cleveland Avenue\, Westerville\, OH\, United States
END:VEVENT
BEGIN:VEVENT
DTSTART;TZID=UTC:20240907T200000
DTEND;TZID=UTC:20240907T230000
DTSTAMP:20260420T001543
CREATED:20240709T205549Z
LAST-MODIFIED:20240709T210345Z
UID:1328-1725739200-1725750000@www.brianmichaelsmith.com
SUMMARY:Live Music in the Wine Bar\, Saturday 9/7/24
DESCRIPTION:Live Music with Brian Michael Smith and his Trio in the Wine Bar at Hyde Park Prime Steakhouse. \nRelax at the bar with drinks and appetizers or fine dining at tables. Chef-inspired menu featuring a variation of legendary aged boutique cut steaks\, market fresh seafood\, and chef-crafted seasonal features. Located in the Short North on the CAP at Union Station.
URL:https://www.brianmichaelsmith.com/event/live-music-in-the-wine-bar-saturday-9-7-24/
LOCATION:Hyde Park Prime Steakhouse\, 569 North High St\, Columbus\, OH\, 43215\, United States
END:VEVENT
BEGIN:VEVENT
DTSTART;TZID=UTC:20240803T200000
DTEND;TZID=UTC:20240803T230000
DTSTAMP:20260420T001543
CREATED:20240709T210025Z
LAST-MODIFIED:20240709T210043Z
UID:1331-1722715200-1722726000@www.brianmichaelsmith.com
SUMMARY:Live Music at Hyde Park\, Saturday 8/3/24
DESCRIPTION:Live Music with Brian Michael Smith and his Trio in the Wine Bar at Hyde Park Prime Steakhouse. \nRelax at the bar with drinks and appetizers or fine dining at tables. Chef-inspired menu featuring a variation of legendary aged boutique cut steaks\, market fresh seafood\, and chef-crafted seasonal features. Located in the Short North on the CAP at Union Station.
URL:https://www.brianmichaelsmith.com/event/live-music-at-hyde-park-saturday-8-3-24/
LOCATION:Hyde Park Prime Steakhouse\, 569 North High St\, Columbus\, OH\, 43215\, United States
END:VEVENT
BEGIN:VEVENT
DTSTART;TZID=UTC:20240706T200000
DTEND;TZID=UTC:20240706T230000
DTSTAMP:20260420T001543
CREATED:20240527T221715Z
LAST-MODIFIED:20240709T210305Z
UID:1321-1720296000-1720306800@www.brianmichaelsmith.com
SUMMARY:Saturday Night Live Music in the Wine Bar\, 7/6/24
DESCRIPTION:Live Music with Brian Michael Smith and his Trio in the Wine Bar at Hyde Park Prime Steakhouse. \nRelax at the bar with drinks and appetizers or fine dining at tables. Chef-inspired menu featuring a variation of legendary aged boutique cut steaks\, market fresh seafood\, and chef-crafted seasonal features. Located in the Short North on the CAP at Union Station.
URL:https://www.brianmichaelsmith.com/event/saturday-night-live-music-in-the-wine-bar-7-6-24/
LOCATION:Hyde Park Prime Steakhouse\, 569 North High St\, Columbus\, OH\, 43215\, United States
END:VEVENT
BEGIN:VEVENT
DTSTART;TZID=UTC:20240630T190000
DTEND;TZID=UTC:20240630T203000
DTSTAMP:20260420T001543
CREATED:20240527T210945Z
LAST-MODIFIED:20240527T212354Z
UID:1309-1719774000-1719779400@www.brianmichaelsmith.com
SUMMARY:Marion Concert Band Summer Series 2024\, Sunday 6/30/24
DESCRIPTION:Enjoy a summer evening at the Marion Concert Band Summer Series 2024 listening to Brian Michael Smith and the John Vermeulen Swing Band. Bring a lawn chair\, sunglasses\, and a non-alcoholic beverage. At McKinley Park in Marion. Free admission.
URL:https://www.brianmichaelsmith.com/event/marion-concert-band-summer-series-2024/
LOCATION:McKinley Park\, 1000 McKinley Park Drive\, Marion\, OH\, United States
END:VEVENT
BEGIN:VEVENT
DTSTART;TZID=UTC:20240629T200000
DTEND;TZID=UTC:20240629T230000
DTSTAMP:20260420T001543
CREATED:20240513T173451Z
LAST-MODIFIED:20240513T173451Z
UID:1304-1719691200-1719702000@www.brianmichaelsmith.com
SUMMARY:Live Music in the Wine Bar\, Saturday 6/29/24
DESCRIPTION:Celebrate the 4th of July early with Live Music with Brian Michael Smith and his Trio in the Wine Bar at Hyde Park Prime Steakhouse….“God Bless the USA”… \nRelax at the bar with drinks and appetizers or fine dining at tables. Chef-inspired menu featuring a variation of legendary aged boutique cut steaks\, market fresh seafood\, and chef-crafted seasonal features. Located in the Short North on the CAP at Union Station.
URL:https://www.brianmichaelsmith.com/event/live-music-in-the-wine-bar-saturday-6-29-24/
LOCATION:Hyde Park Prime Steakhouse\, 569 North High St\, Columbus\, OH\, 43215\, United States
END:VEVENT
BEGIN:VEVENT
DTSTART;TZID=UTC:20240622T130000
DTEND;TZID=UTC:20240622T180000
DTSTAMP:20260420T001543
CREATED:20240418T222058Z
LAST-MODIFIED:20240418T222058Z
UID:1290-1719061200-1719079200@www.brianmichaelsmith.com
SUMMARY:Private Event\, Saturday 6/22/24
DESCRIPTION:Private Wedding Celebration
URL:https://www.brianmichaelsmith.com/event/private-event-saturday-6-22-24/
LOCATION:The Club at Tartan Fields\, 8070 Tartan Fields Drive\, Dublin\, OH\, 43017\, United States
END:VEVENT
BEGIN:VEVENT
DTSTART;TZID=UTC:20240621T190000
DTEND;TZID=UTC:20240621T210000
DTSTAMP:20260420T001543
CREATED:20240527T211613Z
LAST-MODIFIED:20240608T230527Z
UID:1312-1718996400-1719003600@www.brianmichaelsmith.com
SUMMARY:Uptown Friday Night\, 6/21/24
DESCRIPTION:Grab takeout from your favorite restaurant and join Brian Michael Smith and the John Vermeulen Swing Band on the Westerville City Hall stage for Uptown Friday Night! Free admission. \n 
URL:https://www.brianmichaelsmith.com/event/uptown-friday-night-6-21-24/
LOCATION:Westerville City Hall Courtyard\, 21 South State Street\, Westerville\, OH\, United States
END:VEVENT
BEGIN:VEVENT
DTSTART;TZID=UTC:20240615T200000
DTEND;TZID=UTC:20240615T230000
DTSTAMP:20260420T001543
CREATED:20240513T173000Z
LAST-MODIFIED:20240527T212235Z
UID:1302-1718481600-1718492400@www.brianmichaelsmith.com
SUMMARY:Saturday Night Live Music\, 6/15/24
DESCRIPTION:Live Music with Brian Michael Smith and his Trio in the Wine Bar at Hyde Park Prime Steakhouse….“In The Good Old Summertime….” \nRelax at the bar with drinks and appetizers or fine dining at tables. Chef-inspired menu featuring a variation of legendary aged boutique cut steaks\, market fresh seafood\, and chef-crafted seasonal features. Located in the Short North on the CAP at Union Station.
URL:https://www.brianmichaelsmith.com/event/saturday-night-live-music-6-25-24/
LOCATION:Hyde Park Prime Steakhouse\, 569 North High St\, Columbus\, OH\, 43215\, United States
END:VEVENT
BEGIN:VEVENT
DTSTART;TZID=UTC:20240608T200000
DTEND;TZID=UTC:20240608T230000
DTSTAMP:20260420T001543
CREATED:20240508T174917Z
LAST-MODIFIED:20240508T174917Z
UID:1300-1717876800-1717887600@www.brianmichaelsmith.com
SUMMARY:Saturday Night Live Music at Hyde Park\, 6/8/24
DESCRIPTION:  \n \nLive Music with Brian Michael Smith and his Trio in the Wine Bar at Hyde Park Prime Steakhouse. “The Summer Wind Came Blowing In…” \nRelax at the bar with drinks and appetizers or fine dining at tables. Chef-inspired menu featuring a variation of legendary aged boutique cut steaks\, market fresh seafood\, and chef-crafted seasonal features. Located in the Short North on the CAP at Union Station.
URL:https://www.brianmichaelsmith.com/event/saturday-night-live-music-at-hyde-park-6-8-24/
LOCATION:Hyde Park Prime Steakhouse\, 569 North High St\, Columbus\, OH\, 43215\, United States
END:VEVENT
BEGIN:VEVENT
DTSTART;TZID=UTC:20240531T200000
DTEND;TZID=UTC:20240531T230000
DTSTAMP:20260420T001543
CREATED:20240527T211956Z
LAST-MODIFIED:20240527T211956Z
UID:1316-1717185600-1717196400@www.brianmichaelsmith.com
SUMMARY:Friday Night Live Music in the Wine Bar\, 5/31/24
DESCRIPTION:Live Music with Brian Michael Smith and his Trio in the Wine Bar at Hyde Park Prime Steakhouse. \nRelax at the bar with drinks and appetizers or fine dining at tables. Chef-inspired menu featuring a variation of legendary aged boutique cut steaks\, market fresh seafood\, and chef-crafted seasonal features. Located in the Short North on the CAP at Union Station.
URL:https://www.brianmichaelsmith.com/event/friday-night-live-music-in-the-wine-bar-5-31-24/
LOCATION:Hyde Park Prime Steakhouse\, 569 North High St\, Columbus\, OH\, 43215\, United States
END:VEVENT
BEGIN:VEVENT
DTSTART;TZID=UTC:20240511T200000
DTEND;TZID=UTC:20240511T230000
DTSTAMP:20260420T001543
CREATED:20240307T015916Z
LAST-MODIFIED:20240307T015916Z
UID:1267-1715457600-1715468400@www.brianmichaelsmith.com
SUMMARY:Live Music at Hyde Park\, Saturday\, 5/11/24
DESCRIPTION:Live Music with Brian Michael Smith and his Trio in the Wine Bar at Hyde Park Prime Steakhouse. \nRelax at the bar with drinks and appetizers or fine dining at tables. Chef-inspired menu featuring a variation of legendary aged boutique cut steaks\, market fresh seafood\, and chef-crafted seasonal features. Located in the Short North on the CAP at Union Station.
URL:https://www.brianmichaelsmith.com/event/live-music-at-hyde-park-saturday-5-11-24/
LOCATION:Hyde Park Prime Steakhouse\, 569 North High St\, Columbus\, OH\, 43215\, United States
END:VEVENT
BEGIN:VEVENT
DTSTART;TZID=UTC:20240504T143000
DTEND;TZID=UTC:20240504T160000
DTSTAMP:20260420T001543
CREATED:20240308T201012Z
LAST-MODIFIED:20240308T201012Z
UID:1274-1714833000-1714838400@www.brianmichaelsmith.com
SUMMARY:Private Event\, Saturday 5/4/24
DESCRIPTION:Private Wedding Ceremony at St. Catherine Catholic Church\, Columbus.
URL:https://www.brianmichaelsmith.com/event/private-event-saturday-5-4-24/
LOCATION:St. Catherine’s Church\, 500 South Gould Road\, Columbus\, OH\, 43209\, United States
END:VEVENT
BEGIN:VEVENT
DTSTART;TZID=UTC:20240503T113000
DTEND;TZID=UTC:20240503T130000
DTSTAMP:20260420T001543
CREATED:20240203T211648Z
LAST-MODIFIED:20240203T211648Z
UID:1248-1714735800-1714741200@www.brianmichaelsmith.com
SUMMARY:Ohio Military Hall of Fame Induction Ceremony\, Friday 5/3/24
DESCRIPTION:Please join me for this awe-inspiring experience honoring our Ohio Veterans who are receiving Medals of Valour and being inducted into the Ohio Military Hall of Fame. \nIt is my honor and extreme privilege to salute our Veterans with music and song. \nFree admission and open to the public.
URL:https://www.brianmichaelsmith.com/event/ohio-military-hall-of-fame-induction-ceremony-friday-5-3-24/
LOCATION:The Atrium\, Ohio Statehouse\, 1 East Capital St.\, Columbus\, OH\, 43215\, United States
END:VEVENT
BEGIN:VEVENT
DTSTART;TZID=UTC:20240427T170000
DTEND;TZID=UTC:20240427T170000
DTSTAMP:20260420T001543
CREATED:20240421T215713Z
LAST-MODIFIED:20240421T220222Z
UID:1292-1714237200-1714237200@www.brianmichaelsmith.com
SUMMARY:Night at the Races\, Saturday 4/27/24
DESCRIPTION:You’re invited to Night at the Races\, Christ the King’s annual fundraiser\, with the live music of Brian Michael Smith and his Trio. Lots of fun and a $5000 Grand Prize! In the All Saints Academy Gym next to Christ the King Church. $20 admission at the door.
URL:https://www.brianmichaelsmith.com/event/night-at-the-races-saturday-4-27-24/
LOCATION:Christ the King Church\, 2777 E Livingston Ave\, Columbus\, OH\, 43209\, United States
END:VEVENT
BEGIN:VEVENT
DTSTART;TZID=UTC:20240420T200000
DTEND;TZID=UTC:20240420T230000
DTSTAMP:20260420T001543
CREATED:20240307T014212Z
LAST-MODIFIED:20240307T014755Z
UID:1258-1713643200-1713654000@www.brianmichaelsmith.com
SUMMARY:Saturday Night Live Music at Hyde Park\, Saturday 4/20/24
DESCRIPTION:Live Music with Brian Michael Smith and his Trio in the Wine Bar at Hyde Park Prime Steakhouse….”It Might As Well Be Spring!” \nRelax at the bar with drinks and appetizers or fine dining at tables. Chef-inspired menu featuring a variation of legendary aged boutique cut steaks\, market fresh seafood\, and chef-crafted seasonal features. Located in the Short North on the CAP at Union Station.
URL:https://www.brianmichaelsmith.com/event/saturday-night-live-music-at-hyde-park/
LOCATION:Hyde Park Prime Steakhouse\, 569 North High St\, Columbus\, OH\, 43215\, United States
END:VEVENT
END:VCALENDAR