BEGIN:VCALENDAR
VERSION:2.0
PRODID:-//Brian Michael Smith - ECPv6.15.20//NONSGML v1.0//EN
CALSCALE:GREGORIAN
METHOD:PUBLISH
X-WR-CALNAME:Brian Michael Smith
X-ORIGINAL-URL:https://www.brianmichaelsmith.com
X-WR-CALDESC:Events for Brian Michael Smith
REFRESH-INTERVAL;VALUE=DURATION:PT1H
X-Robots-Tag:noindex
X-PUBLISHED-TTL:PT1H
BEGIN:VTIMEZONE
TZID:UTC
BEGIN:STANDARD
TZOFFSETFROM:+0000
TZOFFSETTO:+0000
TZNAME:UTC
DTSTART:20220101T000000
END:STANDARD
END:VTIMEZONE
BEGIN:VEVENT
DTSTART;TZID=UTC:20231124T200000
DTEND;TZID=UTC:20231124T230000
DTSTAMP:20260422T221011
CREATED:20230930T212225Z
LAST-MODIFIED:20230930T212225Z
UID:1167-1700856000-1700866800@www.brianmichaelsmith.com
SUMMARY:Friday Night Live Music in the Wine Bar\, 11/24/23
DESCRIPTION:Live Music with Brian Michael Smith and his Trio in the Wine Bar at Hyde Park Prime Steakhouse. \nRelax at the bar with drinks and appetizers or fine dining at tables. Chef-inspired menu featuring a variation of  legendary aged boutique cut steaks\, market fresh seafood\, and chef-crafted seasonal features. Located in the Short North on the CAP at Union Station.
URL:https://www.brianmichaelsmith.com/event/friday-night-live-music-in-the-wine-bar-11-24-23/
LOCATION:Hyde Park Prime Steakhouse\, 569 North High St\, Columbus\, OH\, 43215\, United States
END:VEVENT
BEGIN:VEVENT
DTSTART;TZID=UTC:20231116T180000
DTEND;TZID=UTC:20231116T210000
DTSTAMP:20260422T221011
CREATED:20230804T220250Z
LAST-MODIFIED:20230927T160331Z
UID:1115-1700157600-1700168400@www.brianmichaelsmith.com
SUMMARY:Live Music at Carfagna's\, Thursday 11/16/23
DESCRIPTION:Brian Michael Smith and his Trio are back by popular demand at Bar Saturnino at Carfagna’s Market & Ristorante at Polaris for an evening of Live Music! Come for cocktails or an amazing hand-made Italian dining experience. Also shop the taste of Italy in their authentic Italian market. For over 80 years\, Carfagna’s has been a standout in the local Italian food scene. \n 
URL:https://www.brianmichaelsmith.com/event/live-music-at-carfagnas-thursday-11-16-23/
LOCATION:Carfagna’s Market & Ristorante\, 1440 Gemini Place\, Towne Center\, Westerville\, OH\, 43240\, United States
END:VEVENT
BEGIN:VEVENT
DTSTART;TZID=UTC:20231111T200000
DTEND;TZID=UTC:20231111T230000
DTSTAMP:20260422T221011
CREATED:20230927T155834Z
LAST-MODIFIED:20230927T155834Z
UID:1158-1699732800-1699743600@www.brianmichaelsmith.com
SUMMARY:Live Music Saturday Night at Hyde Park\, 11/11/23
DESCRIPTION:Live Music with Brian Michael Smith and his Trio in the Wine Bar at Hyde Park Prime Steakhouse. \nRelax at the bar with drinks and appetizers or fine dining at tables. Chef-inspired menu featuring a variation of  legendary aged boutique cut steaks\, market fresh seafood\, and chef-crafted seasonal features. Located in the Short North on the CAP at Union Station.
URL:https://www.brianmichaelsmith.com/event/live-music-saturday-night-at-hyde-park-11-11-23/
LOCATION:Hyde Park Prime Steakhouse\, 569 North High St\, Columbus\, OH\, 43215\, United States
END:VEVENT
BEGIN:VEVENT
DTSTART;TZID=UTC:20231021T200000
DTEND;TZID=UTC:20231021T230000
DTSTAMP:20260422T221011
CREATED:20230927T155415Z
LAST-MODIFIED:20230927T155415Z
UID:1152-1697918400-1697929200@www.brianmichaelsmith.com
SUMMARY:Saturday Night Live Music in the Wine Bar\, 10/21/23
DESCRIPTION:Live Music with Brian Michael Smith and his Trio in the Wine Bar at Hyde Park Prime Steakhouse. \nRelax at the bar with drinks and appetizers or fine dining at tables. Chef-inspired menu featuring a variation of  legendary aged boutique cut steaks\, market fresh seafood\, and chef-crafted seasonal features. Located in the Short North on the CAP at Union Station.
URL:https://www.brianmichaelsmith.com/event/saturday-night-live-music-in-the-wine-bar-10-21-23/
LOCATION:Hyde Park Prime Steakhouse\, 569 North High St\, Columbus\, OH\, 43215\, United States
END:VEVENT
BEGIN:VEVENT
DTSTART;TZID=UTC:20231020T180000
DTEND;TZID=UTC:20231020T233000
DTSTAMP:20260422T221011
CREATED:20231012T223933Z
LAST-MODIFIED:20231012T223933Z
UID:1176-1697824800-1697844600@www.brianmichaelsmith.com
SUMMARY:Private Event\, Friday 10/20/23
DESCRIPTION:Private Wedding Celebration. Brian Michael Smith and The Rick Brunetto Band at Valley Dale Ballroom.
URL:https://www.brianmichaelsmith.com/event/private-event-friday-10-20-23/
LOCATION:Valley Dale Ballroom\, 1590 Sunbury Road\, Columbus\, NY\, 10705\, United States
END:VEVENT
BEGIN:VEVENT
DTSTART;TZID=UTC:20231017T180000
DTEND;TZID=UTC:20231017T210000
DTSTAMP:20260422T221011
CREATED:20230722T191842Z
LAST-MODIFIED:20230927T160411Z
UID:1073-1697565600-1697576400@www.brianmichaelsmith.com
SUMMARY:Live Music at Carfagna’s\, Tuesday 10/17/23
DESCRIPTION:Brian Michael Smith and his Trio are back by popular demand at Bar Saturnino at Carfagna’s Market & Ristorante at Polaris for an evening of Live Music! Come for cocktails or an amazing hand-made Italian dining experience. Also shop the taste of Italy in their authentic Italian market. For over 80 years\, Carfagna’s has been a standout in the local Italian food scene.
URL:https://www.brianmichaelsmith.com/event/live-music-at-carfagnas-tuesday-10-17-23/
LOCATION:Carfagna’s Market & Ristorante\, 1440 Gemini Place\, Towne Center\, Westerville\, OH\, 43240\, United States
END:VEVENT
BEGIN:VEVENT
DTSTART;TZID=UTC:20231013T200000
DTEND;TZID=UTC:20231013T230000
DTSTAMP:20260422T221011
CREATED:20230927T154521Z
LAST-MODIFIED:20230927T154521Z
UID:1150-1697227200-1697238000@www.brianmichaelsmith.com
SUMMARY:Friday Night Live Music at Hyde Park\, 10/13/23
DESCRIPTION:Live Music with Brian Michael Smith and his Trio in the Wine Bar at Hyde Park Prime Steakhouse. \nRelax at the bar with drinks and appetizers or fine dining at tables. Chef-inspired menu featuring a variation of  legendary aged boutique cut steaks\, market fresh seafood\, and chef-crafted seasonal features. Located in the Short North on the CAP at Union Station.
URL:https://www.brianmichaelsmith.com/event/friday-night-live-music-at-hyde-park-10-13-23/
LOCATION:Hyde Park Prime Steakhouse\, 569 North High St\, Columbus\, OH\, 43215\, United States
END:VEVENT
BEGIN:VEVENT
DTSTART;TZID=UTC:20231008T173000
DTEND;TZID=UTC:20231008T190000
DTSTAMP:20260422T221011
CREATED:20230708T194912Z
LAST-MODIFIED:20230708T194912Z
UID:935-1696786200-1696791600@www.brianmichaelsmith.com
SUMMARY:The Columbus Italian Festival\, Sunday 10/8/23
DESCRIPTION:In its 43rd year\, the Columbus Italian Festival is on the grounds of St. John The Baptist Italian Catholic Church. As one of Columbus’ premier festivals\, it attracts over 35\,000 visitors. Each year on Columbus Day weekend\, the Italian community comes together in a 3-day celebration with the finest in food\, entertainment and Italian culture. Brian Michael Smith will be closing out the Festival on Sunday\, performing with Rick Brunetto’s Big Band\, Central Ohio’s foremost and finest 17-piece big band.
URL:https://www.brianmichaelsmith.com/event/the-columbus-italian-festival-sunday-10-8-23/
LOCATION:Italian Festival\, 720 Hamlet Street\, Columbus\, 43215\, United States
END:VEVENT
BEGIN:VEVENT
DTSTART;TZID=UTC:20231006T190000
DTEND;TZID=UTC:20231006T220000
DTSTAMP:20260422T221011
CREATED:20230914T221109Z
LAST-MODIFIED:20230914T221203Z
UID:1140-1696618800-1696629600@www.brianmichaelsmith.com
SUMMARY:Private Event\, Friday 10/6/23
DESCRIPTION:Private Celebration\, Renewal of Wedding Vows
URL:https://www.brianmichaelsmith.com/event/private-event-friday10-6-23/
LOCATION:The Country Club at Muirfield Village\, 875 Muirfiled Drive\, Dublin\, OH\, 43017\, United States
END:VEVENT
BEGIN:VEVENT
DTSTART;TZID=UTC:20231005T190000
DTEND;TZID=UTC:20231005T220000
DTSTAMP:20260422T221011
CREATED:20230927T161449Z
LAST-MODIFIED:20230927T161449Z
UID:1164-1696532400-1696543200@www.brianmichaelsmith.com
SUMMARY:Private Party\, Thursday 10/5/23
DESCRIPTION:Private 60th Birthday Celebration.
URL:https://www.brianmichaelsmith.com/event/private-party-thursday-10-5-23/
LOCATION:The Club at Tartan Fields\, 8070 Tartan Fields Drive\, Dublin\, OH\, 43017\, United States
END:VEVENT
BEGIN:VEVENT
DTSTART;TZID=UTC:20230929T193000
DTEND;TZID=UTC:20230929T220000
DTSTAMP:20260422T221011
CREATED:20230918T222357Z
LAST-MODIFIED:20230918T222357Z
UID:1144-1696015800-1696024800@www.brianmichaelsmith.com
SUMMARY:Music & Dancing at Valley Dale\, Friday 9/29/23
DESCRIPTION:An evening of live music and dancing in the famous Valley Dale Ballroom\, the largest dance floor in Columbus. $15 Cover\, Cash Bar\, Food Available for Purchase.
URL:https://www.brianmichaelsmith.com/event/music-dancing-at-valley-dale-friday-9-29-23/
LOCATION:Valley Dale Ballroom\, 1590 Sunbury Road\, Columbus\, NY\, 10705\, United States
END:VEVENT
BEGIN:VEVENT
DTSTART;TZID=UTC:20230919T180000
DTEND;TZID=UTC:20230919T200000
DTSTAMP:20260422T221011
CREATED:20230804T221247Z
LAST-MODIFIED:20230804T221247Z
UID:1119-1695146400-1695153600@www.brianmichaelsmith.com
SUMMARY:Private Party\, Tuesday 9/19/23
DESCRIPTION:Private Party\, Mt Carmel Rehabilitation Stroke Center Celebrating Stroke Survivors\, Everal Barn and Homestead\, Westerville.
URL:https://www.brianmichaelsmith.com/event/private-party-tuesday-9-19-23/
LOCATION:Everal Barn and Homestead\, 60 North Cleveland Avenue\, Westerville\, OH\, United States
END:VEVENT
BEGIN:VEVENT
DTSTART;TZID=UTC:20230916T170000
DTEND;TZID=UTC:20230916T200000
DTSTAMP:20260422T221011
CREATED:20230812T164138Z
LAST-MODIFIED:20230812T230323Z
UID:1125-1694883600-1694894400@www.brianmichaelsmith.com
SUMMARY:Live Music at Milano's\, Saturday 9/16/23
DESCRIPTION:Milano’s Italian Restaurant will curb your carvings for Traditional American Italian Food and treat you like family…..all while listening to the mellow tones of Brian Michael Smith and his Trio.
URL:https://www.brianmichaelsmith.com/event/live-music-at-milanos/
LOCATION:Milano’s Italian Restaurant\, 6916 East Broad St\, Columbus\, OH\, 43213\, United States
END:VEVENT
BEGIN:VEVENT
DTSTART;TZID=UTC:20230915T200000
DTEND;TZID=UTC:20230915T230000
DTSTAMP:20260422T221011
CREATED:20230913T220344Z
LAST-MODIFIED:20230913T220344Z
UID:1133-1694808000-1694818800@www.brianmichaelsmith.com
SUMMARY:Live Music in the Wine Bar at Hyde Park\, Friday 9/15/23
DESCRIPTION:Live Music with Brian Michael Smith and his Trio in the Wine Bar at Hyde Park Prime Steakhouse. \nRelax at the bar with drinks and appetizers or fine dining at tables. Chef-inspired menu featuring a variation of  legendary aged boutique cut steaks\, market fresh seafood\, and chef-crafted seasonal features. Located in the Short North on the CAP at Union Station.
URL:https://www.brianmichaelsmith.com/event/live-music-in-the-wine-bar-at-hyde-park-friday-9-15-23/
LOCATION:Hyde Park Prime Steakhouse\, 569 North High St\, Columbus\, OH\, 43215\, United States
END:VEVENT
BEGIN:VEVENT
DTSTART;TZID=UTC:20230909T200000
DTEND;TZID=UTC:20230909T230000
DTSTAMP:20260422T221011
CREATED:20230804T204307Z
LAST-MODIFIED:20230804T205147Z
UID:1091-1694289600-1694300400@www.brianmichaelsmith.com
SUMMARY:Live Music in the Wine Bar\, Saturday 9/9/23
DESCRIPTION:  \n \n  \nLive Music with Brian Michael Smith and his Trio in the Wine Bar at Hyde Park Prime Steakhouse. \nRelax at the bar with drinks and appetizers or fine dining at tables. Chef-inspired menu featuring a variation of  legendary aged boutique cut steaks\, market fresh seafood\, and chef-crafted seasonal features. Located in the Short North on the CAP at Union Station.
URL:https://www.brianmichaelsmith.com/event/live-music-in-the-wine-bar-saturday-9-9-23/
LOCATION:Hyde Park Prime Steakhouse\, 569 North High St\, Columbus\, OH\, 43215\, United States
END:VEVENT
BEGIN:VEVENT
DTSTART;TZID=UTC:20230831T180000
DTEND;TZID=UTC:20230831T210000
DTSTAMP:20260422T221011
CREATED:20230705T181851Z
LAST-MODIFIED:20230705T181851Z
UID:926-1693504800-1693515600@www.brianmichaelsmith.com
SUMMARY:Live Music at Carfagna's\, Thursday 8/31/23
DESCRIPTION:Please join me and my Trio for an evening of live music in Bar Saturnino at Carfagna’s Market & Ristorante\, a fabulous new space at Polaris. Come for cocktails or an amazing hand-made Italian dining experience. Also shop the taste of Italy in their authentic Italian market. For over 80 years\, Carfagna’s has been a standout in the local Italian food scene.
URL:https://www.brianmichaelsmith.com/event/live-music-at-carfagnas-thursday-8-31-23-2/
LOCATION:Carfagna’s Market & Ristorante\, 1440 Gemini Place\, Towne Center\, Westerville\, OH\, 43240\, United States
END:VEVENT
BEGIN:VEVENT
DTSTART;TZID=UTC:20230819T200000
DTEND;TZID=UTC:20230819T230000
DTSTAMP:20260422T221011
CREATED:20230705T181047Z
LAST-MODIFIED:20230804T210158Z
UID:923-1692475200-1692486000@www.brianmichaelsmith.com
SUMMARY:Live Music in the Wine Bar at Hyde Park\, Saturday 8/19/23
DESCRIPTION:Live Music with Brian Michael Smith and his Trio in the Wine Bar at Hyde Park Prime Steakhouse. \nRelax at the bar with drinks and appetizers or fine dining at tables. Chef-inspired menu featuring a variation of  legendary aged boutique cut steaks\, market fresh seafood\, and chef-crafted seasonal features. Located in the Short North on the CAP at Union Station.
URL:https://www.brianmichaelsmith.com/event/live-music-in-the-wine-bar-at-hyde-park-saturday-7-29/
LOCATION:Hyde Park Prime Steakhouse\, 569 North High St\, Columbus\, OH\, 43215\, United States
END:VEVENT
BEGIN:VEVENT
DTSTART;TZID=UTC:20230805T190000
DTEND;TZID=UTC:20230805T220000
DTSTAMP:20260422T221011
CREATED:20230803T222335Z
LAST-MODIFIED:20230803T222335Z
UID:1089-1691262000-1691272800@www.brianmichaelsmith.com
SUMMARY:Private Party\, Saturday 8/5/23
DESCRIPTION:Private House Party\, Powell\, OH
URL:https://www.brianmichaelsmith.com/event/private-party-saturday-8-5-23/
LOCATION:OH
END:VEVENT
BEGIN:VEVENT
DTSTART;TZID=UTC:20230804T200000
DTEND;TZID=UTC:20230804T230000
DTSTAMP:20260422T221011
CREATED:20230708T192548Z
LAST-MODIFIED:20230804T210329Z
UID:932-1691179200-1691190000@www.brianmichaelsmith.com
SUMMARY:Live Music in Wine Bar at Hyde Park\, Friday 8/4/23
DESCRIPTION:Live Music with Brian Michael Smith and his Trio in the Wine Bar at Hyde Park Prime Steakhouse. \nRelax at the bar with drinks and appetizers or fine dining at tables. Chef-inspired menu featuring a variation of  legendary aged boutique cut steaks\, market fresh seafood\, and chef-crafted seasonal features. Located in the Short North on the CAP at Union Station.
URL:https://www.brianmichaelsmith.com/event/live-music-in-wine-bar-at-hyde-park-friday-8-4-23/
LOCATION:Hyde Park Prime Steakhouse\, 569 North High St\, Columbus\, OH\, 43215\, United States
END:VEVENT
BEGIN:VEVENT
DTSTART;TZID=UTC:20230730T190000
DTEND;TZID=UTC:20230730T220000
DTSTAMP:20260422T221011
CREATED:20230722T195244Z
LAST-MODIFIED:20230722T195244Z
UID:1083-1690743600-1690754400@www.brianmichaelsmith.com
SUMMARY:Private Event\, Sunday 7/30/23
DESCRIPTION:Private 50th Anniversary Celebration.
URL:https://www.brianmichaelsmith.com/event/private-event-sunday-7-30-23/
LOCATION:Medallion Country Club\, 5000 Club Drive\, Westerville\, OH\, 43082\, United States
END:VEVENT
BEGIN:VEVENT
DTSTART;TZID=UTC:20230729T200000
DTEND;TZID=UTC:20230729T230000
DTSTAMP:20260422T221011
CREATED:20230626T223032Z
LAST-MODIFIED:20230626T223312Z
UID:901-1690660800-1690671600@www.brianmichaelsmith.com
SUMMARY:Saturday Night Live Music at Hyde Park\, 7/29/23
DESCRIPTION:Live Music with Brian Michael Smith and his Trio in the Wine Bar at Hyde Park Prime Steakhouse.  Relax at the bar with drinks and starters or fine dining at tables.  Chef-inspired menu featuring a variation of legendary aged boutique cut steaks\, market fresh seafood\, and chef-crafted seasonal features. Located on The CAP at Union Station.
URL:https://www.brianmichaelsmith.com/event/saturday-night-live-music-at-hyde-park-7-29-23/
LOCATION:Hyde Park Prime Steakhouse\, 569 North High St\, Columbus\, OH\, 43215\, United States
END:VEVENT
BEGIN:VEVENT
DTSTART;TZID=UTC:20230728T170000
DTEND;TZID=UTC:20230728T170000
DTSTAMP:20260422T221011
CREATED:20230722T194059Z
LAST-MODIFIED:20230722T194059Z
UID:1077-1690563600-1690563600@www.brianmichaelsmith.com
SUMMARY:Private Event\, Friday 7/28/23
DESCRIPTION:  \nPrivate Wedding Ceremony and Reception.
URL:https://www.brianmichaelsmith.com/event/private-event-friday-7-28-23/
LOCATION:Columbus Country Club\, 4831 East Broad Street\, Clumbus\, Ohio\, United States
END:VEVENT
BEGIN:VEVENT
DTSTART;TZID=UTC:20230721T193000
DTEND;TZID=UTC:20230721T220000
DTSTAMP:20260422T221011
CREATED:20230718T154247Z
LAST-MODIFIED:20230718T154422Z
UID:1069-1689967800-1689976800@www.brianmichaelsmith.com
SUMMARY:Live Music with Big Band at Valley Dale\, Friday 7/21/23
DESCRIPTION:  \n \nAn evening of live music and dancing in the famous Valley Dale Ballroom with Brian Michael Smith and The Rick Brunetto Big Band. Valley Dale has the largest dance floor in Columbus so put on your dancing shoes. $15 cover\, cash bar\, food available for purchase.
URL:https://www.brianmichaelsmith.com/event/live-music-with-big-band-at-valley-dale-friday-7-21-23/
LOCATION:Valley Dale Ballroom\, 1590 Sunbury Road\, Columbus\, NY\, 10705\, United States
END:VEVENT
BEGIN:VEVENT
DTSTART;TZID=UTC:20230715T163000
DTEND;TZID=UTC:20230715T180000
DTSTAMP:20260422T221011
CREATED:20230705T180309Z
LAST-MODIFIED:20230705T180407Z
UID:909-1689438600-1689444000@www.brianmichaelsmith.com
SUMMARY:Private Event\, Saturday 7/15/23
DESCRIPTION:  \n \n \nPrivate Wedding Ceremony at Holy Cross Church. Brian Michael Smith and the Columbus String Quartet.
URL:https://www.brianmichaelsmith.com/event/private-event-saturday-7-15-23/
LOCATION:Holy Cross Church\, 204 South Fifth Street\, Columbus\, OH\, 43215\, United States
END:VEVENT
BEGIN:VEVENT
DTSTART;TZID=UTC:20230617T173000
DTEND;TZID=UTC:20230617T203000
DTSTAMP:20260422T221011
CREATED:20230601T152538Z
LAST-MODIFIED:20230601T152538Z
UID:893-1687023000-1687033800@www.brianmichaelsmith.com
SUMMARY:Private Event\, Saturday 6/17/23
DESCRIPTION:  \n \nMembers Only event at Columbus Country Club. Dinner and live music on the terrace overlooking the golf course.
URL:https://www.brianmichaelsmith.com/event/private-event-saturday-6-17-23/
LOCATION:Columbus Country Club\, 4831 East Broad Street\, Clumbus\, Ohio\, United States
END:VEVENT
BEGIN:VEVENT
DTSTART;TZID=UTC:20230616T200000
DTEND;TZID=UTC:20230616T230000
DTSTAMP:20260422T221011
CREATED:20230531T204138Z
LAST-MODIFIED:20230531T204138Z
UID:887-1686945600-1686956400@www.brianmichaelsmith.com
SUMMARY:Friday Night Live Music at Hyde Park\, 6/16/23
DESCRIPTION:Live Music with Brian Michael Smith and his Trio in the Wine Bar at Hyde Park Prime Steakhouse.  Relax at the bar with drinks and starters or fine dining at tables.  Chef-inspired menu featuring a variation of legendary aged boutique cut steaks\, market fresh seafood\, and chef-crafted seasonal features. Located on The CAP at Union Station.
URL:https://www.brianmichaelsmith.com/event/friday-night-live-music-at-hyde-park-6-16-23/
LOCATION:Hyde Park Prime Steakhouse\, 569 North High St\, Columbus\, OH\, 43215\, United States
END:VEVENT
BEGIN:VEVENT
DTSTART;TZID=UTC:20230611T140000
DTEND;TZID=UTC:20230611T170000
DTSTAMP:20260422T221011
CREATED:20230530T172036Z
LAST-MODIFIED:20230530T172036Z
UID:883-1686492000-1686502800@www.brianmichaelsmith.com
SUMMARY:Afternoon Tea Dance\, Sunday 6/11/23
DESCRIPTION:Sadly\, the 94th Aero Squadron is closing on 6/18/23. This is your last chance to experience this very popular event with Brian Michael Smith and The Rick Brunetto Big Band. Reservations required at 614.237.8887.
URL:https://www.brianmichaelsmith.com/event/afternoon-tea-dance-sunday-6-11-23/
LOCATION:94th Aero Squadron\, 5030Sawyer Road\, Columbus\, OH\, 43219\, United States
END:VEVENT
BEGIN:VEVENT
DTSTART;TZID=UTC:20230610T130000
DTEND;TZID=UTC:20230610T160000
DTSTAMP:20260422T221011
CREATED:20230514T192902Z
LAST-MODIFIED:20230514T192902Z
UID:875-1686402000-1686412800@www.brianmichaelsmith.com
SUMMARY:Special Event at Carfagna's Market & Ristorante\, Saturday 6/10/23
DESCRIPTION:Join Brian Michael Smith and his Trio for Live Music and a Special In-Store Event at this fabulous new space at Polaris. Come for cocktails or an amazing hand-made Italian dining experience. Also shop the taste of Italy in their authentic Italian market. For over 80 years\, Carfagna’s has been a standout in the local Italian food scene.
URL:https://www.brianmichaelsmith.com/event/special-event-at-carfagnas-market-ristorante-saturday-6-10-23/
LOCATION:Carfagna’s Market & Ristorante\, 1440 Gemini Place\, Towne Center\, Westerville\, OH\, 43240\, United States
END:VEVENT
BEGIN:VEVENT
DTSTART;TZID=UTC:20230603T200000
DTEND;TZID=UTC:20230603T230000
DTSTAMP:20260422T221011
CREATED:20230530T171455Z
LAST-MODIFIED:20230530T171455Z
UID:880-1685822400-1685833200@www.brianmichaelsmith.com
SUMMARY:Saturday Night Live Music\, 6/3/23
DESCRIPTION:Music with Brian Michael Smith and his Trio in the Wine Bar at Hyde Park Prime Steakhouse.  Relax at the bar with drinks and starters or fine dining at tables.  Chef-inspired menu featuring a variation of legendary aged boutique cut steaks\, market fresh seafood\, and chef-crafted seasonal features. Located on The CAP at Union Station.
URL:https://www.brianmichaelsmith.com/event/saturday-night-live-music-6-3-23/
LOCATION:Hyde Park Prime Steakhouse\, 569 North High St\, Columbus\, OH\, 43215\, United States
END:VEVENT
BEGIN:VEVENT
DTSTART;TZID=UTC:20230520T170000
DTEND;TZID=UTC:20230520T230000
DTSTAMP:20260422T221011
CREATED:20230206T205050Z
LAST-MODIFIED:20230206T205050Z
UID:790-1684602000-1684623600@www.brianmichaelsmith.com
SUMMARY:Private Event\, Saturday 5/20/23
DESCRIPTION:Private Wedding (Reception Entertainment and Master of Ceremonies)
URL:https://www.brianmichaelsmith.com/event/private-event-saturday-5-20-23/
LOCATION:UNOH Event Center\, 1450 N. Cable Road\, Lima\, OH\, 45805\, United States
END:VEVENT
END:VCALENDAR